BEGIN:VCALENDAR
VERSION:2.0
PRODID:-//ChamberMaster//Event Calendar 2.0//EN
METHOD:PUBLISH
X-PUBLISHED-TTL:P3D
REFRESH-INTERVAL:P3D
CALSCALE:GREGORIAN
BEGIN:VEVENT
DTSTART:20050322T230000Z
DTEND:20050322T230000Z
X-MICROSOFT-CDO-ALLDAYEVENT:FALSE
SUMMARY:Certification Committee Meeting - 03/22/2005
DESCRIPTION:
X-ALT-DESC;FMTTYPE=text/html:
LOCATION:BLSJ Cherry Hill\, NJ 08034
UID:e.9292.157
SEQUENCE:3
DTSTAMP:20260420T221742Z
URL:https://members.blsj.com/events/details/certification-committee-meeting-03-22-2005-03-22-2005-157
END:VEVENT

END:VCALENDAR
