BEGIN:VCALENDAR
VERSION:2.0
PRODID:-//ChamberMaster//Event Calendar 2.0//EN
METHOD:PUBLISH
X-PUBLISHED-TTL:P3D
REFRESH-INTERVAL:P3D
CALSCALE:GREGORIAN
BEGIN:VEVENT
DTSTART:20060207T170000Z
DTEND:20060207T230000Z
X-MICROSOFT-CDO-ALLDAYEVENT:FALSE
SUMMARY:Certification Committee Meeting - 02/07/2006
DESCRIPTION:
X-ALT-DESC;FMTTYPE=text/html:
LOCATION:BLSJ Cherry Hill\, NJ 08034
UID:e.9292.677
SEQUENCE:3
DTSTAMP:20260421T122805Z
URL:https://members.blsj.com/events/details/certification-committee-meeting-02-07-2006-02-07-2006-677
END:VEVENT

END:VCALENDAR
