BEGIN:VCALENDAR
VERSION:2.0
PRODID:-//ChamberMaster//Event Calendar 2.0//EN
METHOD:PUBLISH
X-PUBLISHED-TTL:P3D
REFRESH-INTERVAL:P3D
CALSCALE:GREGORIAN
BEGIN:VEVENT
DTSTART:20100922T160000Z
DTEND:20100922T160000Z
X-MICROSOFT-CDO-ALLDAYEVENT:FALSE
SUMMARY:CERTIFICACION EPA para trabajar con Pintura a base de Plomo - Curso de UN DIA
DESCRIPTION:ATENCION REMODELADORES!\n Pintores\, Electricistas\, Tecnicos de HVAC y otros que \n trabajan en casas y edificios construidos antes de 1978 deben obtener certificacion EPA a partir del 22 de Abril.\n \n Curso de UN DIA\, para obtener la\n CERTIFICACION EPA para trabajar con Pintura \n a base de Plomo Este curso cumple con los requerimientos del Estado de New Jersey de acuerdo a N.J.A.C. 5:10-6.6(g).\n \n REGISTRECE POR INTERNET o complete y envie el siguiente formulario a la oficina del BLSJ cuanto antes! RSVP antes del Viernes\, 10 de Septiembre\, 2010.\n Comuniquese con BLSJ para informacion sobre otras fechas de cursos.\n    A partir del 22 de Abril\, 2010\, solamente los renovadores que esten certificados por EPA\n 1podran trabajar en casas construidas antes de 1978 que contienen pintura a base de plomo. \n Las infracciones a esta nueva regla resultaran en multas de hasta $32\,500 por dia!!! El curso de un dia se llevara a cabo en: The Builders League of New Jersy\n 114 Haddontowne Court\, Cherry Hill\, NJ FECHA: MARTES\, 21 DE SEPTIEMBRE\, 2010\n Desde las 8 am hasta las 5 pm Este curso se ofrece al precio especial de $325.00 por persona!\n Espacio Limitado!!!
X-ALT-DESC;FMTTYPE=text/html:<p style="text-align: center"><strong><span style="color: #ff0000">ATENCION REMODELADORES!</span><br /> <span style="color: #ff0000">Pintores\, Electricistas\, Tecnicos de HVAC y otros que <br /> trabajan en casas y edificios construidos antes de 1978 deben obtener certificacion EPA a partir del 22 de Abril.<br /> <br /> Curso de UN DIA\, para obtener la<br /> CERTIFICACION EPA para trabajar con Pintura <br /> a base de Plomo</span></strong></p> <p style="text-align: center">Este curso cumple con los requerimientos del Estado de New Jersey de acuerdo a N.J.A.C. 5:10-6.6(g).<br /> <br /> REGISTRECE POR INTERNET o complete y envie el siguiente formulario a la oficina del BLSJ cuanto antes! RSVP antes del Viernes\, 10 de Septiembre\, 2010.<br /> Comuniquese con BLSJ para informacion sobre otras fechas de cursos.<br /> &nbsp\;</p> <p style="text-align: center">&nbsp\;A partir del 22 de Abril\, 2010\, solamente los renovadores que esten certificados por EPA<br /> 1podran trabajar en casas construidas antes de 1978 que contienen pintura a base de plomo. <br /> Las infracciones a esta nueva regla resultaran en multas de hasta $32\,500 por dia!!!</p> <p style="text-align: center">El curso de un dia se llevara a cabo en:</p> <p style="text-align: center">The Builders League of New Jersy<br /> 114 Haddontowne Court\, Cherry Hill\, NJ</p> <p style="text-align: center">FECHA: MARTES\, 21 DE SEPTIEMBRE\, 2010<br /> Desde las 8 am hasta las 5 pm</p> <p style="text-align: center">Este curso se ofrece al precio especial de $325.00 por persona!<br /> Espacio Limitado!!!<br /> &nbsp\;</p>
LOCATION:114 Haddontowne Court Cherry Hill\, NJ 08034
UID:e.9292.940
SEQUENCE:3
DTSTAMP:20260421T093141Z
URL:https://members.blsj.com/events/details/certificacion-epa-para-trabajar-con-pintura-a-base-de-plomo-curso-de-un-dia-09-22-2010-940
END:VEVENT

END:VCALENDAR
