BEGIN:VCALENDAR
VERSION:2.0
PRODID:-//ChamberMaster//Event Calendar 2.0//EN
METHOD:PUBLISH
X-PUBLISHED-TTL:P3D
REFRESH-INTERVAL:P3D
CALSCALE:GREGORIAN
BEGIN:VEVENT
DTSTART:20060106T170000Z
DTEND:20060106T170000Z
X-MICROSOFT-CDO-ALLDAYEVENT:FALSE
SUMMARY:Casino Vegas Night Sub-Committee Meeting
DESCRIPTION:
X-ALT-DESC;FMTTYPE=text/html:
LOCATION:\, NJ
UID:e.9292.675
SEQUENCE:3
DTSTAMP:20260421T123357Z
URL:https://members.blsj.com/events/details/casino-vegas-night-sub-committee-meeting-01-06-2006-675
END:VEVENT

END:VCALENDAR
