BEGIN:VCALENDAR
VERSION:2.0
PRODID:-//ChamberMaster//Event Calendar 2.0//EN
METHOD:PUBLISH
X-PUBLISHED-TTL:P3D
REFRESH-INTERVAL:P3D
CALSCALE:GREGORIAN
BEGIN:VEVENT
DTSTART:20061207T230000Z
DTEND:20061207T230000Z
X-MICROSOFT-CDO-ALLDAYEVENT:FALSE
SUMMARY:CANCELLED-Seminar Topic: Business Killers
DESCRIPTION:Learn how to avoid the six common mistakes that can destroy your business and your future You've never seen anything like businessKillers . It is a unique program designed to help an individual or business owner avoid the six common mistakes that can kill the value of a business and/or impair an effective transfer of ownership. 6 Video Modules Dealing with Mistakes that Can Kill Your Business The 6 Modules are Entitled 1. "I know What My Business is Worth" Business Valuations/buy/sell funding 2. "I'm Too Busy Running the Company" Succession Planning/funding real estate taxes 3. "That'll Never Happen to Me" Disability income protection insurance 4. "There's Plenty of Time for That" Replacement income/asset allocation 5. "My Business IS My Retirement" Diversified investments/asset allocation 6. "You Can't Beat Uncle Sam" Tax strategies/investments/alternative retirement plans There are no slides\, graphs or charts used in a businessKillers  educational workshop. This powerful program will be one of the most important sessions you will attend. Continental breakfast included. Presented by: Joseph W. Murray\, CLU\, ChFC\, CSA First Financial Group
X-ALT-DESC;FMTTYPE=text/html:Learn how to avoid the six common mistakes that can destroy your business and your future You&rsquo\;ve never seen anything like businessKillers&reg\;. It is a unique program designed to help an individual or business owner avoid the six common mistakes that can kill the value of a business and/or impair an effective transfer of ownership. 6 Video Modules Dealing with Mistakes that Can Kill Your Business The 6 Modules are Entitled 1. &quot\;I know What My Business is Worth&quot\; Business Valuations/buy/sell funding 2. &quot\;I&rsquo\;m Too Busy Running the Company&quot\; Succession Planning/funding real estate taxes 3. &quot\;That&rsquo\;ll Never Happen to Me&quot\; Disability income protection insurance 4. &quot\;There&rsquo\;s Plenty of Time for That&quot\; Replacement income/asset allocation 5. &quot\;My Business IS My Retirement&quot\; Diversified investments/asset allocation 6. &quot\;You Can&rsquo\;t Beat Uncle Sam&quot\; Tax strategies/investments/alternative retirement plans There are no slides\, graphs or charts used in a businessKillers&reg\; educational workshop. This powerful program will be one of the most important sessions you will attend. Continental breakfast included. Presented by: Joseph W. Murray\, CLU\, ChFC\, CSA First Financial Group
LOCATION:Builders League Cherry Hill\, NJ 08034
UID:e.9292.382
SEQUENCE:3
DTSTAMP:20260422T023133Z
URL:https://members.blsj.com/events/details/cancelled-seminar-topic-business-killers-12-07-2006-382
END:VEVENT

END:VCALENDAR
