BEGIN:VCALENDAR
VERSION:2.0
PRODID:-//ChamberMaster//Event Calendar 2.0//EN
METHOD:PUBLISH
X-PUBLISHED-TTL:P3D
REFRESH-INTERVAL:P3D
CALSCALE:GREGORIAN
BEGIN:VEVENT
DTSTART:20100211T170000Z
DTEND:20100211T170000Z
X-MICROSOFT-CDO-ALLDAYEVENT:FALSE
SUMMARY:CANCELLED-Charitable Foundation Committee Meeting
DESCRIPTION:MEETING CANCELLED - \n \n AGENDA: 1. Mission Statement:\n THE MISSION OF THE CHARITABLE FOUNDATION OF THE BUILDERS LEAGUE OF SOUTH JERSEY IS TO PROVIDE SHELTER RELATED ASSISTANCE AND TO SUPPORT CHARITIES WITH SIMILAR NEEDS WITHIN THE COMMUNITIES WE SERVE\n 2. Adoption of January 14\, 2010\, Minutes\n 3. Financial Report\n 4. Requests for Assistance\n a) None 5. Ambassador for Housing\n 6. Old Business\n a. Stratton Family Update: Dave Robinson\; Charles Kojeski\n b. Riversharks Update: Dave Robinson\n c. Homes for Our Troops 5K Run/Walk   September 11\, 2011   Susan Thames\n 7. New Business
X-ALT-DESC;FMTTYPE=text/html:<p><span style="font-size: small"><strong><span style="color: #ff0000">MEETING CANCELLED - </span></strong></span><br /> <br /> AGENDA:</p> <p>1. Mission Statement:<br /> THE MISSION OF THE CHARITABLE FOUNDATION OF THE BUILDERS LEAGUE OF SOUTH JERSEY IS TO PROVIDE SHELTER RELATED ASSISTANCE AND TO SUPPORT CHARITIES WITH SIMILAR NEEDS WITHIN THE COMMUNITIES WE SERVE<br /> 2. Adoption of January 14\, 2010\, Minutes<br /> 3. Financial Report<br /> 4. Requests for Assistance<br /> a) None</p> <p>5. Ambassador for Housing<br /> 6. Old Business<br /> a. Stratton Family Update: Dave Robinson\; Charles Kojeski<br /> b. Riversharks Update: Dave Robinson<br /> c. Homes for Our Troops 5K Run/Walk &ndash\; September 11\, 2011 &ndash\; Susan Thames<br /> 7. New Business</p> <p><br /> &nbsp\;</p>
LOCATION:114 Haddontowne Court Cherry Hill\, NJ 08034
UID:e.9292.867
SEQUENCE:3
DTSTAMP:20260421T194003Z
URL:https://members.blsj.com/events/details/cancelled-charitable-foundation-committee-meeting-02-11-2010-867
END:VEVENT

END:VCALENDAR
