BEGIN:VCALENDAR
VERSION:2.0
PRODID:-//ChamberMaster//Event Calendar 2.0//EN
METHOD:PUBLISH
X-PUBLISHED-TTL:P3D
REFRESH-INTERVAL:P3D
CALSCALE:GREGORIAN
BEGIN:VEVENT
DTSTART:20070330T220000Z
DTEND:20070330T220000Z
X-MICROSOFT-CDO-ALLDAYEVENT:FALSE
SUMMARY:CANCELED: Seminar: Check Imaging for the 21st Century
DESCRIPTION:What is check 21?  -Check 21 is changing the way banks and businesses exchange money/checks.  -Funds are available quicker\, and costs go down due to lack of couriers to carry checks -The need for businesses to go to the bank is alleviated  -Enacted due to 9/11 and planes grounded for days.   Challenges for Businesses  -Acceptance of check imaging for customers checks   -Technology and way of the future to process check items  -Convincing business owners using check image technology will save time and money for most businesses year after year   Challenges for Bank  -Fraud  -Customer confusion -Reluctance of customers on new technology  -Can banks handle new way of processing  -How to price/charge\, expensive for banks?   How does all of this benefit consumers?  -No need to go to bank\, saves time and money  -No transportation costs\, someone out of office daily  -Reduces deposit errors and adjustments (full control over deposits)  -Quicker notification if returned deposited item  -Quicker availability on funds  -Online access to deposits\, images of items deposited\, management reports    What is ISN Bank doing?  -Leading the way in check 21 and check image processing  -Offering check image device free\, $1200 value  -PowerPoint and demonstration  -What our bank is about: great service\, local loan decisions and advanced technology. ISN bring's the bank to the customer. Saves time and money for its clients.  \n \n Presented by: Doug Said\, ISN Bank\, Cherry Hill\, NJ
X-ALT-DESC;FMTTYPE=text/html:<div style="MARGIN: 0in 0in 0pt"><span style="FONT-SIZE: 10pt"> <div style="MARGIN: 0in 0in 0pt"><span>What is check 21?&nbsp\;</span></div> <div style="MARGIN: 0in 0in 0pt"><span style="FONT-SIZE: 11pt">-Check 21 is changing the way banks and businesses exchange money/checks.&nbsp\;</span></div> <div style="MARGIN: 0in 0in 0pt"><span style="FONT-SIZE: 11pt">-Funds are available quicker\, and costs go down due to lack of couriers to carry checks</span></div> <div style="MARGIN: 0in 0in 0pt"><span style="FONT-SIZE: 11pt">-The need for businesses to go to the bank is alleviated&nbsp\;</span></div> <div style="MARGIN: 0in 0in 0pt"><span style="FONT-SIZE: 11pt">-Enacted due to 9/11 and planes grounded for days.</span></div> <div style="MARGIN: 0in 0in 0pt">&nbsp\;</div> <div style="MARGIN: 0in 0in 0pt"><span>Challenges for Businesses&nbsp\;</span></div> <div style="MARGIN: 0in 0in 0pt"><span style="FONT-SIZE: 11pt">-Acceptance of check imaging for customers checks &nbsp\;</span></div> <div style="MARGIN: 0in 0in 0pt"><span style="FONT-SIZE: 11pt">-Technology and way of the future to process check items&nbsp\;</span></div> <div style="MARGIN: 0in 0in 0pt"><span style="FONT-SIZE: 11pt">-Convincing business owners using check image technology will save time and money for most businesses year after year</span></div> <div style="MARGIN: 0in 0in 0pt">&nbsp\;</div> <div style="MARGIN: 0in 0in 0pt"><span>Challenges for Bank&nbsp\;</span></div> <div style="MARGIN: 0in 0in 0pt"><span style="FONT-SIZE: 11pt">-Fraud </span></div> <div style="MARGIN: 0in 0in 0pt"><span style="FONT-SIZE: 11pt">-Customer confusion</span></div> <div style="MARGIN: 0in 0in 0pt"><span style="FONT-SIZE: 11pt">-Reluctance of customers on new technology </span></div> <div style="MARGIN: 0in 0in 0pt"><span style="FONT-SIZE: 11pt">-Can banks handle new way of processing </span></div> <div style="MARGIN: 0in 0in 0pt"><span style="FONT-SIZE: 11pt">-How to price/charge\, expensive for banks?</span></div> <div style="MARGIN: 0in 0in 0pt">&nbsp\;</div> <div style="MARGIN: 0in 0in 0pt"><span style="FONT-SIZE: 11pt">How does all of this benefit consumers?&nbsp\;</span></div> <div style="MARGIN: 0in 0in 0pt"><strong><span style="FONT-SIZE: 11pt">-</span></strong><span style="FONT-SIZE: 11pt">No need to go to bank\, saves time and money </span></div> <div style="MARGIN: 0in 0in 0pt"><span style="FONT-SIZE: 11pt">-No transportation costs\, someone out of office daily </span></div> <div style="MARGIN: 0in 0in 0pt"><span style="FONT-SIZE: 11pt">-Reduces deposit errors and adjustments (full control over deposits) </span></div> <div style="MARGIN: 0in 0in 0pt"><span style="FONT-SIZE: 11pt">-Quicker notification if returned deposited item&nbsp\;</span></div> <div style="MARGIN: 0in 0in 0pt"><span style="FONT-SIZE: 11pt">-Quicker availability on funds&nbsp\;</span></div> <div style="MARGIN: 0in 0in 0pt"><span style="FONT-SIZE: 11pt">-Online access to deposits\, images of items deposited\, management reports&nbsp\;</span></div> <div style="MARGIN: 0in 0in 0pt"><strong>&nbsp\;</strong></div> <div style="MARGIN: 0in 0in 0pt"><span style="FONT-SIZE: 11pt">What is ISN Bank doing?&nbsp\;</span></div> <div style="MARGIN: 0in 0in 0pt"><strong><span style="FONT-SIZE: 11pt">-</span></strong><span style="FONT-SIZE: 11pt">Leading the way in check 21 and check image processing&nbsp\;</span></div> <div style="MARGIN: 0in 0in 0pt"><span style="FONT-SIZE: 11pt">-Offering check image device free\, $1200 value&nbsp\;</span></div> <div style="MARGIN: 0in 0in 0pt"><span style="FONT-SIZE: 11pt">-PowerPoint and demonstration&nbsp\;</span></div> <div style="MARGIN: 0in 0in 0pt"><span style="FONT-SIZE: 11pt">-What our bank is about: great service\, local loan decisions and advanced technology.&nbsp\;ISN bring&rsquo\;s the bank to the customer.&nbsp\;Saves time and money for its clients. </span></div> <br /> <br /> <strong><span style="FONT-WEIGHT: normal">Presented by: Doug Said\, ISN Bank\, Cherry Hill\, NJ
LOCATION:Builders League of South Jersey Cherry Hill\, NJ 08034
UID:e.9292.263
SEQUENCE:3
DTSTAMP:20260422T063727Z
URL:https://members.blsj.com/events/details/canceled-seminar-check-imaging-for-the-21st-century-03-30-2007-263
END:VEVENT

END:VCALENDAR
