BEGIN:VCALENDAR
VERSION:2.0
PRODID:-//ChamberMaster//Event Calendar 2.0//EN
METHOD:PUBLISH
X-PUBLISHED-TTL:P3D
REFRESH-INTERVAL:P3D
CALSCALE:GREGORIAN
BEGIN:VEVENT
DTSTART:20060316T230000Z
DTEND:20060316T170000Z
X-MICROSOFT-CDO-ALLDAYEVENT:FALSE
SUMMARY:CANCELED - Owner Controlled Insurance Plans-Why They're Perfect f
DESCRIPTION:OWNER CONTROLLED INSURANCE PLANS WHY THEY ARE PERFECT FOR REDEVELOPMENT WORK  ~Thursday\, March 16\, 2006~  Just as redevelopment work is a market unto itself\, the insurance\, risk transfer and risk financing mechanisms for this type of project are as equally unique.  Owner Controlled Insurance Programs\, Project Specific Insurance\, Project Builders Risk and even captive insurance plans offer redevelopers alternatives to traditional insurance.  Find out how these plans work\, and if they are right for your project.  The program is geared toward projects of $20\,000\,000 construction cost and up.   Presented by:     Anthony D. Bevilacqua\, CPCU\, President          Anthony & Company          William Linney\, Director Business Development          Willis of New Jersey
X-ALT-DESC;FMTTYPE=text/html:OWNER CONTROLLED INSURANCE PLANS WHY THEY ARE PERFECT FOR REDEVELOPMENT WORK  ~Thursday\, March 16\, 2006~  Just as redevelopment work is a market unto itself\, the insurance\, risk transfer and risk financing mechanisms for this type of project are as equally unique.  Owner Controlled Insurance Programs\, Project Specific Insurance\, Project Builders Risk and even captive insurance plans offer redevelopers alternatives to traditional insurance.  Find out how these plans work\, and if they are right for your project.  The program is geared toward projects of $20\,000\,000 construction cost and up.   Presented by:     Anthony D. Bevilacqua\, CPCU\, President          Anthony & Company          William Linney\, Director Business Development          Willis of New Jersey  
LOCATION:Builders League 114 Haddontowne Ct Cherry Hill\, NJ 08034
UID:e.9292.862
SEQUENCE:3
DTSTAMP:20260421T152440Z
URL:https://members.blsj.com/events/details/canceled-owner-controlled-insurance-plans-why-they-re-perfect-f-03-16-2006-862
END:VEVENT

END:VCALENDAR
