BEGIN:VCALENDAR
VERSION:2.0
PRODID:-//ChamberMaster//Event Calendar 2.0//EN
METHOD:PUBLISH
X-PUBLISHED-TTL:P3D
REFRESH-INTERVAL:P3D
CALSCALE:GREGORIAN
BEGIN:VEVENT
DTSTART:20060502T160000Z
DTEND:20060502T160000Z
X-MICROSOFT-CDO-ALLDAYEVENT:FALSE
SUMMARY:CANCELED - Associate Committee Meeting - 05/02/2006
DESCRIPTION:
X-ALT-DESC;FMTTYPE=text/html:
LOCATION:\, NJ
UID:e.9292.146
SEQUENCE:3
DTSTAMP:20260421T181928Z
URL:https://members.blsj.com/events/details/canceled-associate-committee-meeting-05-02-2006-05-02-2006-146
END:VEVENT

END:VCALENDAR
