BEGIN:VCALENDAR
VERSION:2.0
PRODID:-//ChamberMaster//Event Calendar 2.0//EN
METHOD:PUBLISH
X-PUBLISHED-TTL:P3D
REFRESH-INTERVAL:P3D
CALSCALE:GREGORIAN
BEGIN:VEVENT
DTSTART:20050915T220000Z
DTEND:20050915T160000Z
X-MICROSOFT-CDO-ALLDAYEVENT:FALSE
SUMMARY:Business Killers: Avoiding the 6 Common Mistakes a Bus Owner Make - 09/15/2005
DESCRIPTION:This workshop is designed to help business owners learn how to avoid mistakes that can destroy their businesses.   The workshop identifies six critical issues family businesses should consider in order to protect their businesses and the potential impact on the family's financial future.  The fast-paced program combines video dramatizations of typical situations ("That'll Never Happen to Me\, Business IS My Retirement\, and You Can't Beat Uncle Sam") with discussions and interaction with banking\, law\, insurance and accounting professionals. This session provides attendees with a solid understanding of outcomes and solutions. Attendees will evaluate the likelihood of loss with a risk barometer and take away solid recommendations for ways to guard their investment in the future - their family business.  3 CPE Credits Awarded  Continental breakfast included.  Presented by: Joseph W. Murray\, CLU\, ChFC\, CSA First Financial Group/Mass Mutual
X-ALT-DESC;FMTTYPE=text/html:This workshop is designed to help business owners learn how to avoid mistakes that can destroy their businesses.   The workshop identifies six critical issues family businesses should consider in order to protect their businesses and the potential impact on the family's financial future.  The fast-paced program combines video dramatizations of typical situations ("That'll Never Happen to Me\, Business IS My Retirement\, and You Can't Beat Uncle Sam") with discussions and interaction with banking\, law\, insurance and accounting professionals. This session provides attendees with a solid understanding of outcomes and solutions. Attendees will evaluate the likelihood of loss with a risk barometer and take away solid recommendations for ways to guard their investment in the future - their family business.  3 CPE Credits Awarded  Continental breakfast included.  Presented by: Joseph W. Murray\, CLU\, ChFC\, CSA First Financial Group/Mass Mutual
LOCATION:Builders League of South Jersey 114 Haddontowne Ct Cherry Hill\, NJ 08034
UID:e.9292.627
SEQUENCE:3
DTSTAMP:20260421T055607Z
URL:https://members.blsj.com/events/details/business-killers-avoiding-the-6-common-mistakes-a-bus-owner-make-09-15-2005-09-15-2005-627
END:VEVENT

END:VCALENDAR
