BEGIN:VCALENDAR
VERSION:2.0
PRODID:-//ChamberMaster//Event Calendar 2.0//EN
METHOD:PUBLISH
X-PUBLISHED-TTL:P3D
REFRESH-INTERVAL:P3D
CALSCALE:GREGORIAN
BEGIN:VEVENT
DTSTART:20090717T220000Z
DTEND:20090717T220000Z
X-MICROSOFT-CDO-ALLDAYEVENT:FALSE
SUMMARY:Builder/Realtor Expo. Sub-Committee Meeting - 07/17/2009
DESCRIPTION:Planning meeting for the fall 2009 Builder/Realtor Expo
X-ALT-DESC;FMTTYPE=text/html:<p>Planning meeting for the fall 2009 Builder/Realtor Expo</p> <p>&nbsp\;</p>
LOCATION:114 Haddontowne Court Cherry Hill\, NJ 08034
UID:e.9292.143
SEQUENCE:3
DTSTAMP:20260422T052826Z
URL:https://members.blsj.com/events/details/builder-realtor-expo-sub-committee-meeting-07-17-2009-07-17-2009-143
END:VEVENT

END:VCALENDAR
