BEGIN:VCALENDAR
VERSION:2.0
PRODID:-//ChamberMaster//Event Calendar 2.0//EN
METHOD:PUBLISH
X-PUBLISHED-TTL:P3D
REFRESH-INTERVAL:P3D
CALSCALE:GREGORIAN
BEGIN:VEVENT
DTSTART:20090915T160000Z
DTEND:20090915T160000Z
X-MICROSOFT-CDO-ALLDAYEVENT:FALSE
SUMMARY:BUILDER/REALTOR EXPO - EXCITING NEW EVENT - 09/15/2009
DESCRIPTION:BUILDERS...      Promote your communities and products to the best Realtors in South Jersey all at one event.     Demonstrate your company values directly to those who can bring you qualified homebuyers.     Communicate your Realtor programs and incentives.     Collect business cards by sponsoring a give-away drawing at your table.     Event is FREE to Realtors so attendance is expected to be high.  Come to this Builder/Realtor Expo and spend quality one-on-one time with South Jersey's Premier Realtors. DATE: Tuesday\, September 15\, 2009                                                TIME: 11:00 a.m. to 2:00 p.m.\n PLACE: Mansion on Main Street\, Plaza 3000\, Voorhees\, NJ\n \n HOW MUCH:\n $250\n Includes: Table set-up\n Buffet lunch\n \n *Builder must be in good standing with BLSJ in order to participate.
X-ALT-DESC;FMTTYPE=text/html:<p style="text-align: left"><strong><span style="font-size: small">BUILDERS...</span></strong></p> <ul>     <li><span style="font-size: small">Promote your communities and products to the best Realtors in South Jersey all at one event.</span></li>     <li><span style="font-size: small">Demonstrate your company values directly to those who can bring you qualified homebuyers.</span></li>     <li><span style="font-size: small">Communicate your Realtor programs and incentives.</span></li>     <li><span style="font-size: small">Collect business cards by sponsoring a give-away drawing at your table.</span></li>     <li><span style="font-size: small"><strong>Event is <em>FREE</em> to Realtors so attendance is expected to be high.</strong></span></li> </ul> <p><span style="font-size: small"><em>Come to this Builder/Realtor Expo and spend quality one-on-one time with South Jersey&rsquo\;s Premier Realtors.</em></span></p> <p style="text-align: center"><span style="color: #ff0000"><span style="font-size: small"><strong>DATE: </strong>Tuesday\, September 15\, 2009&nbsp\;&nbsp\;&nbsp\;&nbsp\;&nbsp\;&nbsp\;&nbsp\;&nbsp\;&nbsp\;&nbsp\;&nbsp\;&nbsp\;&nbsp\;&nbsp\;&nbsp\;&nbsp\;&nbsp\;&nbsp\;&nbsp\;&nbsp\;&nbsp\;&nbsp\;&nbsp\;&nbsp\;&nbsp\;&nbsp\;&nbsp\;&nbsp\;&nbsp\;&nbsp\;&nbsp\;&nbsp\;&nbsp\;&nbsp\;&nbsp\;&nbsp\;&nbsp\;&nbsp\;&nbsp\;&nbsp\;&nbsp\;&nbsp\;&nbsp\;&nbsp\;&nbsp\;&nbsp\;&nbsp\; <strong>TIME:</strong> 11:00 a.m. to 2:00 p.m.<br /> <strong>PLACE:</strong> Mansion on Main Street\, Plaza 3000\, Voorhees\, NJ</span></span><br /> <br /> <strong><span style="font-size: small">HOW MUCH:<br /> </span><u><span style="font-size: small">$250<br /> </span></u><span style="font-size: small">Includes: Table set-up<br /> Buffet lunch<br /> <br /> </span></strong><span style="font-size: x-small"><span>*Builder must be in good standing with BLSJ in order to participate.</span></span></p> <p>&nbsp\;</p> <p>&nbsp\;</p>
LOCATION:Plaza 3000 Voorhees\, NJ 08034
UID:e.9292.379
SEQUENCE:3
DTSTAMP:20260422T023553Z
URL:https://members.blsj.com/events/details/builder-realtor-expo-exciting-new-event-09-15-2009-09-15-2009-379
END:VEVENT

END:VCALENDAR
