BEGIN:VCALENDAR
VERSION:2.0
PRODID:-//ChamberMaster//Event Calendar 2.0//EN
METHOD:PUBLISH
X-PUBLISHED-TTL:P3D
REFRESH-INTERVAL:P3D
CALSCALE:GREGORIAN
BEGIN:VEVENT
DTSTART:20050928T220000Z
DTEND:20050928T220000Z
X-MICROSOFT-CDO-ALLDAYEVENT:FALSE
SUMMARY:Brownfields Development
DESCRIPTION:"Brownsfields" Flaster/Greenberg Environmental Law Shareholder Janet S. Kole will discuss the scarcity of buildable land in New Jersey.  She will explain why increasing numbers of developers and builders are turning to Brownfields redevelopment by making use of federal and state grants and loans\, along with cheaper land costs\, to remediate and build everything from industrial sites to houses.  Kole will discuss how to find these sites and how builders and developers can control remediation costs and limit liability.
X-ALT-DESC;FMTTYPE=text/html:"Brownsfields" Flaster/Greenberg Environmental Law Shareholder Janet S. Kole will discuss the scarcity of buildable land in New Jersey.  She will explain why increasing numbers of developers and builders are turning to Brownfields redevelopment by making use of federal and state grants and loans\, along with cheaper land costs\, to remediate and build everything from industrial sites to houses.  Kole will discuss how to find these sites and how builders and developers can control remediation costs and limit liability. 
LOCATION:BLSJ Cherry Hill\, NJ 08034
UID:e.9292.138
SEQUENCE:3
DTSTAMP:20260421T054958Z
URL:https://members.blsj.com/events/details/brownfields-development-09-28-2005-138
END:VEVENT

END:VCALENDAR
