BEGIN:VCALENDAR
VERSION:2.0
PRODID:-//ChamberMaster//Event Calendar 2.0//EN
METHOD:PUBLISH
X-PUBLISHED-TTL:P3D
REFRESH-INTERVAL:P3D
CALSCALE:GREGORIAN
BEGIN:VEVENT
DTSTART:20050329T230000Z
DTEND:20050329T230000Z
X-MICROSOFT-CDO-ALLDAYEVENT:FALSE
SUMMARY:Brownfield Redevelopment
DESCRIPTION:BROWNFIELDS  2005 - WHAT'S NEW FOR   THE RESIDENTIAL DEVELOPER?   I.    Brownfield 2005 - What's new and what's not? (Bruce Katcher\, Manko\, Gold\, Katcher & Fox\, LLP)     Why develop brownfields now?      The fundamentals - are they changing?  Emerging issues      New tools     Recent changes - new standards and liability reforms  II.   New Jersey DEP's Brownfields Program  (Ken Kloo - Administrator\, Office of Brownfields Reuse)     Function and objectives of OBR      New OBR Initiatives     Other NJDEP Brownfield tools   III.   Financial Assistance Tools - What's new at the State?    (Economic Development Authority)        Grants and loans        Tax incentives  IV.   Federal Financial Assistance Tools - What's new in Washington?     (Jonathan Spergel - Manko\, Gold\, Katcher & Fox\, LLP)        Grants and loans         Tax incentives
X-ALT-DESC;FMTTYPE=text/html:BROWNFIELDS  2005 - WHAT'S NEW FOR   THE RESIDENTIAL DEVELOPER?   I.    Brownfield 2005 - What's new and what's not? (Bruce Katcher\, Manko\, Gold\, Katcher & Fox\, LLP)     Why develop brownfields now?      The fundamentals - are they changing?  Emerging issues      New tools     Recent changes - new standards and liability reforms  II.   New Jersey DEP's Brownfields Program  (Ken Kloo - Administrator\, Office of Brownfields Reuse)     Function and objectives of OBR      New OBR Initiatives     Other NJDEP Brownfield tools   III.   Financial Assistance Tools - What's new at the State?    (Economic Development Authority)        Grants and loans        Tax incentives  IV.   Federal Financial Assistance Tools - What's new in Washington?     (Jonathan Spergel - Manko\, Gold\, Katcher & Fox\, LLP)        Grants and loans         Tax incentives              
LOCATION:Builders League of South Jersey 114 Haddontowne Court Cherry Hill\, NJ 08034
UID:e.9292.618
SEQUENCE:3
DTSTAMP:20260420T221426Z
URL:https://members.blsj.com/events/details/brownfield-redevelopment-03-29-2005-618
END:VEVENT

END:VCALENDAR
