BEGIN:VCALENDAR
VERSION:2.0
PRODID:-//ChamberMaster//Event Calendar 2.0//EN
METHOD:PUBLISH
X-PUBLISHED-TTL:P3D
REFRESH-INTERVAL:P3D
CALSCALE:GREGORIAN
BEGIN:VEVENT
DTSTART:20091216T230000Z
DTEND:20091216T170000Z
X-MICROSOFT-CDO-ALLDAYEVENT:FALSE
SUMMARY:Breakfast Seminar: Ã¢Â€ÂœThe Impact of the Appraisal Process on New Home Sales
DESCRIPTION:"The Impact of the Appraisal Process on New Home Sales" Sponsored by the 2009 BLSJ Grand Sponsors\n \n MODERATOR: Wayne Norris\, Hanley Wood Market Intelligence\n Regional Sales Director\n \n Wednesday\, December 16\, 2009\n Continental Breakfast: 8:30-9:00 a.m. / Program: 9:00 a.m.\n Cost: $25.00 (Advance) $35.00 (At the Door or Non-members)\n LOCATION: Mansion on Main Street - Plaza 3000\, Main Street Voorhees\, NJ Lately\, mortgage brokers\, builders\, real estate agents and others in the housing business have been complaining about unfair appraisals. If you want to know why\, then you can't afford to miss this informative breakfast seminar. Hear from the areas leading appraisers\, bankers & local and national builders how their business is affected by the current appraisal situation. Are builders losing deals because homes are not appraising?\n Are buyers needing to bring additional $$ to the table due to last minute reduced appraisals? How are builders balancing reduced pricing with keeping home values up? (Smaller models\, subtle incentives .)\n Get the perspective from all sides of the table... Local Housing overview - Wayne Norris\, Hanley Wood Market Intelligence\n Hanley Wood Market Intelligence's Market Dashboard and Market Forecast report for Philadelphia MSA free ($175 value) Appraiser Presenters: Edward T. Molinari\, SRA & \n Michael S. Sapio\, MAI - NorthStar Appraisal Company\n Banker Panelist: Jack Gangluff\, Columbia Bank\n Builder Panelist:  Chris Gillen\, Beazer Homes\n Question & Answer discussion
X-ALT-DESC;FMTTYPE=text/html:<p style="text-align: center"><strong><span style="font-size: small">&quot\;The Impact of the Appraisal Process on New Home Sales&quot\;</span></strong></p> <p style="text-align: center"><strong><span style="font-size: small">Sponsored by the 2009 BLSJ Grand Sponsors</span></strong><br /> <br /> MODERATOR: Wayne Norris\, Hanley Wood Market Intelligence<br /> Regional Sales Director<br /> <strong><br /> Wednesday\, December 16\, 2009<br /> Continental Breakfast: 8:30-9:00 a.m. / Program: 9:00 a.m.<br /> Cost: $25.00 (Advance) $35.00 (At the Door or Non-members)<br /> LOCATION: Mansion on Main Street - Plaza 3000\, Main Street Voorhees\, NJ</strong></p> <p style="text-align: center">Lately\, mortgage brokers\, builders\, real estate agents and others in the housing business have been complaining about unfair appraisals. If you want to know why\, then you can&rsquo\;t afford to miss this informative breakfast seminar. Hear from the areas leading appraisers\, bankers &amp\; local and national builders how their business is affected by the current appraisal situation.</p> <p style="text-align: center">Are builders losing deals because homes are not appraising?<br /> Are buyers needing to bring additional $$ to the table due to last minute reduced appraisals? How are builders balancing reduced pricing with keeping home values up? (Smaller models\, subtle incentives&hellip\;.)<br /> Get the perspective from all sides of the table...</p> <p style="text-align: center">Local Housing overview - Wayne Norris\, Hanley Wood Market Intelligence<br /> Hanley Wood Market Intelligence&rsquo\;s Market Dashboard and Market Forecast report for Philadelphia MSA free ($175 value)</p> <p style="text-align: center">Appraiser Presenters: Edward T. Molinari\, SRA &amp\; <br /> Michael S. Sapio\, MAI - NorthStar Appraisal Company<br /> Banker Panelist: Jack Gangluff\, Columbia Bank<br /> Builder Panelist:&nbsp\; Chris Gillen\, Beazer Homes<br /> Question &amp\; Answer discussion<br /> &nbsp\;</p>
LOCATION:Plaza 3000 Main Street Voorhees\, NJ 08034
UID:e.9292.137
SEQUENCE:3
DTSTAMP:20260421T223715Z
URL:https://members.blsj.com/events/details/breakfast-seminar-&#227;-&#226;-&#226;œthe-impact-of-the-appraisal-process-on-new-home-sales-12-16-2009-137
END:VEVENT

END:VCALENDAR
