BEGIN:VCALENDAR
VERSION:2.0
PRODID:-//ChamberMaster//Event Calendar 2.0//EN
METHOD:PUBLISH
X-PUBLISHED-TTL:P3D
REFRESH-INTERVAL:P3D
CALSCALE:GREGORIAN
BEGIN:VEVENT
DTSTART:20060419T220000Z
DTEND:20060419T160000Z
X-MICROSOFT-CDO-ALLDAYEVENT:FALSE
SUMMARY:"Branding Your Business with Color and Design"
DESCRIPTION:Building a Small Business Brand  Wednesday\, April 19\, 2006  Peter Drucker says that "Branding\, by its very nature is not optional. If you do not position yourself in people's minds\, they will do it for you." Your brand is your business reputation. It's much more than a logo. It's also what you say and what you do - it's the sum total of a customer's experience with your company.  Successful marketing today is not so much about the content of "What you do." It's more about the context of "How you do it" and "How you are perceived."  Our speaker\, Dr. Jean Wilcox\, will talk about how to set the context to create a positive brand image.  She uses a combination of cartoons and real life examples that illustrate the basic aspects of good brand management in a humorous and light hearted way.   Takeaways from the talk will be: 1. What's "appropriate" for your business brand. 2. How to develop for credibility in what you say and what you deliver 3. A seven step method for building and evaluating your own brand  Presented by:   Dr. Jean Wilcox       CattLeLogos Brand Management Systems\, LLC
X-ALT-DESC;FMTTYPE=text/html:Building a Small Business Brand  Wednesday\, April 19\, 2006  Peter Drucker says that "Branding\, by its very nature is not optional. If you do not position yourself in people's minds\, they will do it for you." Your brand is your business reputation. It's much more than a logo. It's also what you say and what you do - it's the sum total of a customer's experience with your company.  Successful marketing today is not so much about the content of "What you do." It's more about the context of "How you do it" and "How you are perceived."  Our speaker\, Dr. Jean Wilcox\, will talk about how to set the context to create a positive brand image.  She uses a combination of cartoons and real life examples that illustrate the basic aspects of good brand management in a humorous and light hearted way.   Takeaways from the talk will be: 1. What's "appropriate" for your business brand. 2. How to develop for credibility in what you say and what you deliver 3. A seven step method for building and evaluating your own brand  Presented by:   Dr. Jean Wilcox       CattLeLogos Brand Management Systems\, LLC 
LOCATION:Builders League 114 Haddontowne Ct Cherry Hill\, NJ 08034
UID:e.9292.32
SEQUENCE:3
DTSTAMP:20260421T152301Z
URL:https://members.blsj.com/events/details/branding-your-business-with-color-and-design-04-19-2006-32
END:VEVENT

END:VCALENDAR
