BEGIN:VCALENDAR
VERSION:2.0
PRODID:-//ChamberMaster//Event Calendar 2.0//EN
METHOD:PUBLISH
X-PUBLISHED-TTL:P3D
REFRESH-INTERVAL:P3D
CALSCALE:GREGORIAN
BEGIN:VEVENT
DTSTART:20070320T160000Z
DTEND:20070320T220000Z
X-MICROSOFT-CDO-ALLDAYEVENT:FALSE
SUMMARY:BPAC Auction Sub-Committee meeting - 03/20/2007
DESCRIPTION:
X-ALT-DESC;FMTTYPE=text/html:
LOCATION:BLSJ Cherry hill\, NJ 08034
UID:e.9292.802
SEQUENCE:3
DTSTAMP:20260422T064536Z
URL:https://members.blsj.com/events/details/bpac-auction-sub-committee-meeting-03-20-2007-03-20-2007-802
END:VEVENT

END:VCALENDAR
