BEGIN:VCALENDAR
VERSION:2.0
PRODID:-//ChamberMaster//Event Calendar 2.0//EN
METHOD:PUBLISH
X-PUBLISHED-TTL:P3D
REFRESH-INTERVAL:P3D
CALSCALE:GREGORIAN
BEGIN:VEVENT
DTSTART:20070306T170000Z
DTEND:20070306T230000Z
X-MICROSOFT-CDO-ALLDAYEVENT:FALSE
SUMMARY:BPAC Auction Sub-Committee meeting - 03/06/2007
DESCRIPTION:
X-ALT-DESC;FMTTYPE=text/html:
LOCATION:BLSJ Cherry hill\, NJ 08034
UID:e.9292.136
SEQUENCE:3
DTSTAMP:20260422T064752Z
URL:https://members.blsj.com/events/details/bpac-auction-sub-committee-meeting-03-06-2007-03-06-2007-136
END:VEVENT

END:VCALENDAR
