BEGIN:VCALENDAR
VERSION:2.0
PRODID:-//ChamberMaster//Event Calendar 2.0//EN
METHOD:PUBLISH
X-PUBLISHED-TTL:P3D
REFRESH-INTERVAL:P3D
CALSCALE:GREGORIAN
BEGIN:VEVENT
DTSTART:20070213T170000Z
DTEND:20070213T170000Z
X-MICROSOFT-CDO-ALLDAYEVENT:FALSE
SUMMARY:BOXING SUB-COMMITTEE MEETING
DESCRIPTION:
X-ALT-DESC;FMTTYPE=text/html:
LOCATION:\, NJ
UID:e.9292.921
SEQUENCE:3
DTSTAMP:20260422T052536Z
URL:https://members.blsj.com/events/details/boxing-sub-committee-meeting-02-13-2007-921
END:VEVENT

END:VCALENDAR
