BEGIN:VCALENDAR
VERSION:2.0
PRODID:-//ChamberMaster//Event Calendar 2.0//EN
METHOD:PUBLISH
X-PUBLISHED-TTL:P3D
REFRESH-INTERVAL:P3D
CALSCALE:GREGORIAN
BEGIN:VEVENT
DTSTART:20060215T170000Z
DTEND:20060215T170000Z
X-MICROSOFT-CDO-ALLDAYEVENT:FALSE
SUMMARY:BOXING NIGHT - BPAC Fundraiser
DESCRIPTION:NOTE: THIS EVENT CANNOT BE PAID FOR ONLINE - PLEASE CONTACT THE LEAGUE OFFICE FOR PAYMENT OPTIONS  SOUTH JERSEY BUILDERS POLITICAL ACTION COMMITTEE ANNOUNCES IT WILL HOST OUR 4th ANNUAL  2006 TRI-STATE AMATEUR MEN'S BOXING CHAMPIONSHIP SANCTIONED BY THE MID-ATLANTIC AMATEUR BOXING ASSOCIATION   DATE:  WEDNESDAY\, FEBRUARY 15\, 2006 TIME:   6:00 P.M. - 10:00 P.M. PLACE:  REGENCY PALACE HOTEL             ROUTE 73 & FELLOWSHIP ROAD                      MT. LAUREL\, NJ        GENERAL ADMISSION: $100.00 PER PERSON (LIMITED RESERVED RINGSIDE)   $150.00 PER PERSON RESERVED RINGSIDE TABLE OF 10 - $1250.00  THIS IS A SPORTING EVENT NOT TO BE MISSED. GREAT CAMARADERIE & GREAT FUN!  DESTINED TO BECOME AN ANNUAL EVENT!    THESE ARE FUTURE OLYMPIC HOPEFULS FIGHTING FOR STATE AND NATIONAL CHAMPIONSHIPS.  NOTE: THIS EVENT CANNOT BE PAID FOR ONLINE-PLEASE CONTACT THE LEAGUE OFFICE TO RESERVE SEATING  If you find it necessary to cancel your registration\, please do so within 72 hours of the meeting/event date\, after that time there will be NO REFUNDS.  Please remit your payment with your registration.
X-ALT-DESC;FMTTYPE=text/html:NOTE: THIS EVENT CANNOT BE PAID FOR ONLINE - PLEASE CONTACT THE LEAGUE OFFICE FOR PAYMENT OPTIONS  SOUTH JERSEY BUILDERS POLITICAL ACTION COMMITTEE ANNOUNCES IT WILL HOST OUR 4th ANNUAL  2006 TRI-STATE AMATEUR MEN'S BOXING CHAMPIONSHIP SANCTIONED BY THE MID-ATLANTIC AMATEUR BOXING ASSOCIATION   DATE:  WEDNESDAY\, FEBRUARY 15\, 2006 TIME:   6:00 P.M. - 10:00 P.M. PLACE:  REGENCY PALACE HOTEL             ROUTE 73 & FELLOWSHIP ROAD                      MT. LAUREL\, NJ        GENERAL ADMISSION: $100.00 PER PERSON (LIMITED RESERVED RINGSIDE)   $150.00 PER PERSON RESERVED RINGSIDE TABLE OF 10 - $1250.00  THIS IS A SPORTING EVENT NOT TO BE MISSED. GREAT CAMARADERIE & GREAT FUN!  DESTINED TO BECOME AN ANNUAL EVENT!    THESE ARE FUTURE OLYMPIC HOPEFULS FIGHTING FOR STATE AND NATIONAL CHAMPIONSHIPS.  NOTE: THIS EVENT CANNOT BE PAID FOR ONLINE-PLEASE CONTACT THE LEAGUE OFFICE TO RESERVE SEATING  If you find it necessary to cancel your registration\, please do so within 72 hours of the meeting/event date\, after that time there will be NO REFUNDS.  Please remit your payment with your registration. 
LOCATION:Regency Palace Mt. Laurel\, NJ 00000
UID:e.9292.135
SEQUENCE:3
DTSTAMP:20260421T122539Z
URL:https://members.blsj.com/events/details/boxing-night-bpac-fundraiser-02-15-2006-135
END:VEVENT

END:VCALENDAR
