BEGIN:VCALENDAR
VERSION:2.0
PRODID:-//ChamberMaster//Event Calendar 2.0//EN
METHOD:PUBLISH
X-PUBLISHED-TTL:P3D
REFRESH-INTERVAL:P3D
CALSCALE:GREGORIAN
BEGIN:VEVENT
DTSTART:20070221T170000Z
DTEND:20070221T170000Z
X-MICROSOFT-CDO-ALLDAYEVENT:FALSE
SUMMARY:BOXING NIGHT - BENEFITS BPAC-CANNOT BE PAID FOR ONLINE
DESCRIPTION:JOIN US FOR THE 5th ANNUAL TRI-STATE AMATEUR BOXING CHAMPIONSHIPS\n \n THIS IS A SPORTING EVENT NOT TO BE MISSED. GREAT CAMARADERIE & GREAT FUN!  DATE:WEDNESDAY\, FEBRUARY 21\, 2007 TIME:   6:00 P.M. - 10:00 P.M. PLACE: THE MARRIOTT MT. LAUREL    915 ROUTE 73\, MT. LAUREL\, NJ    2007 TRI-STATE AMATEUR  MEN'S BOXING CHAMPIONSHIP SANCTIONED BY THE MID-ATLANTIC AMATEUR BOXING ASSOCIATION    GENERAL ADMISSION: $100.00 PER PERSON (LIMITED RESERVED RINGSIDE)  $150.00 PER PERSON RESERVED RINGSIDE TABLE OF 10 - $1250.00
X-ALT-DESC;FMTTYPE=text/html:<font style="FONT-SIZE: 14px" face="Tahoma" color="#ff0000"> <p align="center"><strong>JOIN US FOR THE 5th ANNUAL TRI-STATE AMATEUR BOXING CHAMPIONSHIPS<br /> </strong><strong><br /> </strong><strong><span style="FONT-SIZE: 12pt\; COLOR: black">THIS IS A SPORTING EVENT NOT TO BE MISSED. GREAT CAMARADERIE &amp\; GREAT FUN!&nbsp\;</span></strong></p> <div style="MARGIN: 0in 6pt 0pt\; TEXT-ALIGN: center" align="center"><strong><span style="FONT-SIZE: 14pt\; text-shadow: auto">DATE:WEDNESDAY\, FEBRUARY 21\, 2007</span></strong></div> <div style="MARGIN: 0in 6pt 0pt\; TEXT-ALIGN: center" align="center"><strong><span style="FONT-SIZE: 14pt\; text-shadow: auto">TIME:&nbsp\;&nbsp\; 6:00 P.M. - 10:00 P.M.</span></strong></div> <div style="MARGIN: 0in 6pt 0pt\; TEXT-ALIGN: center" align="center"><strong><span style="FONT-SIZE: 14pt\; text-shadow: auto">PLACE:&nbsp\;<span style="COLOR: red">THE MARRIOTT MT. LAUREL</span></span></strong></div> <div style="MARGIN: 0in 6pt 0pt\; TEXT-ALIGN: center" align="center"><strong><span style="FONT-SIZE: 14pt\; COLOR: red\; text-shadow: auto">&nbsp\;&nbsp\; 915 ROUTE 73\, </span></strong><strong><span style="FONT-SIZE: 14pt\; COLOR: red\; text-shadow: auto">MT. LAUREL\, NJ</span></strong><strong><span style="FONT-SIZE: 14pt\; text-shadow: auto">&nbsp\;</span></strong></div> <div style="MARGIN: 0in 5.75pt 0pt\; TEXT-ALIGN: center" align="center"><strong>&nbsp\;</strong></div> <div style="MARGIN: 0in 6pt 0pt\; TEXT-ALIGN: center" align="center"><strong><span style="FONT-SIZE: 13pt">2007 TRI-STATE AMATEUR </span></strong></div> <div style="MARGIN: 0in 6pt 0pt\; TEXT-ALIGN: center" align="center"><strong><span style="FONT-SIZE: 13pt">MEN&rsquo\;S BOXING CHAMPIONSHIP</span></strong></div> <div style="MARGIN: 0in 6pt 0pt\; TEXT-ALIGN: center" align="center"><strong><span style="FONT-SIZE: 11pt">SANCTIONED BY THE MID-ATLANTIC AMATEUR BOXING ASSOCIATION</span></strong></div> <div style="MARGIN: 0in 6pt 0pt\; TEXT-ALIGN: center" align="center">&nbsp\;</div> <div style="MARGIN: 0in 6pt 0pt\; TEXT-ALIGN: center" align="center">&nbsp\;<strong>GENERAL </strong><strong><span style="COLOR: black">ADMISSION: $100.00 PER PERSON</span></strong></div> <div style="MARGIN: 0in 6pt 0pt\; LINE-HEIGHT: 132%\; TEXT-ALIGN: center" align="center"><strong><span style="COLOR: black">(LIMITED RESERVED RINGSIDE)</span><span style="FONT-SIZE: 13pt\; COLOR: black\; LINE-HEIGHT: 132%">&nbsp\;</span><span style="COLOR: black">&nbsp\;$150.00 PER PERSON</span></strong></div> <div style="MARGIN: 0in 6pt 0pt\; LINE-HEIGHT: 132%\; TEXT-ALIGN: center" align="center"><strong>RESERVED RINGSIDE TABLE OF 10 - $1250.00</strong></div> <div style="MARGIN: 0in 6pt 0pt\; TEXT-ALIGN: center" align="center"></div> <div style="MARGIN: 0in 5.75pt 0pt\; TEXT-ALIGN: center" align="center"></div> </font>
LOCATION:The MARRIOTT MT. LAUREL 915 ROUTE 73 MT. LAUREL\, NJ 08054
UID:e.9292.920
SEQUENCE:3
DTSTAMP:20260422T064418Z
URL:https://members.blsj.com/events/details/boxing-night-benefits-bpac-cannot-be-paid-for-online-02-21-2007-920
END:VEVENT

END:VCALENDAR
