BEGIN:VCALENDAR
VERSION:2.0
PRODID:-//ChamberMaster//Event Calendar 2.0//EN
METHOD:PUBLISH
X-PUBLISHED-TTL:P3D
REFRESH-INTERVAL:P3D
CALSCALE:GREGORIAN
BEGIN:VEVENT
DTSTART:20060317T230000Z
DTEND:20060317T170000Z
X-MICROSOFT-CDO-ALLDAYEVENT:FALSE
SUMMARY:Bonding:How to Qualify for Bonds\,How to Maximize your Surety Rela
DESCRIPTION:Bonding:How to Qualify for Bonds\,How to Maximize your Surety Relationship  Learn about the role Surety Bonds can play in  expanding your business and enabling larger projects.  1.   What are bonds?                                                                 2.   Bonds are not Insurance                                                       3.   Surety Bonds: Guaranteeing Public Improvements     4.   Life of a Bond                                                                 5.   "Who's on first?"                                                              6.   Parties to a Bond 7.   Expected Loss Ratio: 0%                                                   8.   Underwriting Process                                                          9.   Bonding = Banking                                                             10.   Surety Market 11.   Conclusion And your FIRST step... Steve Golia from The Surety Source will provide information on how to qualify for bonds\, and how to manage the relationship with a surety.  Steve has presented seminars on this subject for 30 years.  Individual consultations will be available after the group session.  Presented by: Steve Golia\, The Surety Source    The Surety Source is a specialist that actively writes bonds for developers.  Presented by: Steve Golia    The Surety Source
X-ALT-DESC;FMTTYPE=text/html:Bonding:How to Qualify for Bonds\,How to Maximize your Surety Relationship  Learn about the role Surety Bonds can play in  expanding your business and enabling larger projects.  1.   What are bonds?                                                                 2.   Bonds are not Insurance                                                       3.   Surety Bonds: Guaranteeing Public Improvements     4.   Life of a Bond                                                                 5.   "Who's on first?"                                                              6.   Parties to a Bond 7.   Expected Loss Ratio: 0%                                                   8.   Underwriting Process                                                          9.   Bonding = Banking                                                             10.   Surety Market 11.   Conclusion And your FIRST step... Steve Golia from The Surety Source will provide information on how to qualify for bonds\, and how to manage the relationship with a surety.  Steve has presented seminars on this subject for 30 years.  Individual consultations will be available after the group session.  Presented by: Steve Golia\, The Surety Source    The Surety Source is a specialist that actively writes bonds for developers.  Presented by: Steve Golia    The Surety Source  
LOCATION:Builders League office 114 Haddontowne Ct Cherry Hill\, NJ 08034
UID:e.9292.799
SEQUENCE:3
DTSTAMP:20260421T134730Z
URL:https://members.blsj.com/events/details/bonding-how-to-qualify-for-bonds-how-to-maximize-your-surety-rela-03-17-2006-799
END:VEVENT

END:VCALENDAR
