BEGIN:VCALENDAR
VERSION:2.0
PRODID:-//ChamberMaster//Event Calendar 2.0//EN
METHOD:PUBLISH
X-PUBLISHED-TTL:P3D
REFRESH-INTERVAL:P3D
CALSCALE:GREGORIAN
BEGIN:VEVENT
DTSTART:20041117T230000Z
DTEND:20041117T170000Z
X-MICROSOFT-CDO-ALLDAYEVENT:FALSE
SUMMARY:Board of Directors Meeting - 11/17/2004
DESCRIPTION:BLSJ Board of Directors Meeting. If you are interested in attending\, please call Rick Van Osten at 856-616-8460.
X-ALT-DESC;FMTTYPE=text/html:BLSJ Board of Directors Meeting. If you are interested in attending\, please call Rick Van Osten at 856-616-8460. 
LOCATION:BLSJ Cherry Hill\, NJ 08034
UID:e.9292.612
SEQUENCE:3
DTSTAMP:20260420T174322Z
URL:https://members.blsj.com/events/details/board-of-directors-meeting-11-17-2004-11-17-2004-612
END:VEVENT

END:VCALENDAR
