BEGIN:VCALENDAR
VERSION:2.0
PRODID:-//ChamberMaster//Event Calendar 2.0//EN
METHOD:PUBLISH
X-PUBLISHED-TTL:P3D
REFRESH-INTERVAL:P3D
CALSCALE:GREGORIAN
BEGIN:VEVENT
DTSTART:20041020T160000Z
DTEND:20041020T220000Z
X-MICROSOFT-CDO-ALLDAYEVENT:FALSE
SUMMARY:Board of Directors Meeting - 10/20/2004
DESCRIPTION:BLSJ Board of Directors Meeting. If you are interested in attending\, please call Rick Van Osten at 856-616-8460.  The meeting will be held in Wellington's this month.
X-ALT-DESC;FMTTYPE=text/html:BLSJ Board of Directors Meeting. If you are interested in attending\, please call Rick Van Osten at 856-616-8460.  The meeting will be held in Wellington's this month.
LOCATION:Regency Palace Mt Laurel\, NJ 08054
UID:e.9292.613
SEQUENCE:3
DTSTAMP:20260420T162502Z
URL:https://members.blsj.com/events/details/board-of-directors-meeting-10-20-2004-10-20-2004-613
END:VEVENT

END:VCALENDAR
