BEGIN:VCALENDAR
VERSION:2.0
PRODID:-//ChamberMaster//Event Calendar 2.0//EN
METHOD:PUBLISH
X-PUBLISHED-TTL:P3D
REFRESH-INTERVAL:P3D
CALSCALE:GREGORIAN
BEGIN:VEVENT
DTSTART:20050921T160000Z
DTEND:20050921T220000Z
X-MICROSOFT-CDO-ALLDAYEVENT:FALSE
SUMMARY:Board of Directors Meeting - 09/21/2005
DESCRIPTION:
X-ALT-DESC;FMTTYPE=text/html:
LOCATION:Regency Palace Fellowship Road\, NJ 08054
UID:e.9292.240
SEQUENCE:3
DTSTAMP:20260421T055738Z
URL:https://members.blsj.com/events/details/board-of-directors-meeting-09-21-2005-09-21-2005-240
END:VEVENT

END:VCALENDAR
