BEGIN:VCALENDAR
VERSION:2.0
PRODID:-//ChamberMaster//Event Calendar 2.0//EN
METHOD:PUBLISH
X-PUBLISHED-TTL:P3D
REFRESH-INTERVAL:P3D
CALSCALE:GREGORIAN
BEGIN:VEVENT
DTSTART:20060918T220000Z
DTEND:20060918T160000Z
X-MICROSOFT-CDO-ALLDAYEVENT:FALSE
SUMMARY:Board of Directors Meeting - 09/18/2006
DESCRIPTION:Please note the change in the date and day for this month only.
X-ALT-DESC;FMTTYPE=text/html:Please note the change in the date and day for this month only.
LOCATION:BLSJ Cherry Hill\, NJ 08034
UID:e.9292.366
SEQUENCE:3
DTSTAMP:20260421T235726Z
URL:https://members.blsj.com/events/details/board-of-directors-meeting-09-18-2006-09-18-2006-366
END:VEVENT

END:VCALENDAR
