BEGIN:VCALENDAR
VERSION:2.0
PRODID:-//ChamberMaster//Event Calendar 2.0//EN
METHOD:PUBLISH
X-PUBLISHED-TTL:P3D
REFRESH-INTERVAL:P3D
CALSCALE:GREGORIAN
BEGIN:VEVENT
DTSTART:20040908T160000Z
DTEND:20040908T220000Z
X-MICROSOFT-CDO-ALLDAYEVENT:FALSE
SUMMARY:Board of Directors Meeting - 09/08/2004
DESCRIPTION:BLSJ Board of Directors Meeting.  If you are interested in attending\, please call Rick Van Osten at 856-616-8460.
X-ALT-DESC;FMTTYPE=text/html:BLSJ Board of Directors Meeting.  If you are interested in attending\, please call Rick Van Osten at 856-616-8460.
LOCATION:Regency Palace Fellowship Road Mt. Laurel\, NJ 08054
UID:e.9292.132
SEQUENCE:3
DTSTAMP:20260420T152937Z
URL:https://members.blsj.com/events/details/board-of-directors-meeting-09-08-2004-09-08-2004-132
END:VEVENT

END:VCALENDAR
