BEGIN:VCALENDAR
VERSION:2.0
PRODID:-//ChamberMaster//Event Calendar 2.0//EN
METHOD:PUBLISH
X-PUBLISHED-TTL:P3D
REFRESH-INTERVAL:P3D
CALSCALE:GREGORIAN
BEGIN:VEVENT
DTSTART:20100721T220000Z
DTEND:20100721T160000Z
X-MICROSOFT-CDO-ALLDAYEVENT:FALSE
SUMMARY:Board of Directors Meeting - 07/21/2010
DESCRIPTION:
X-ALT-DESC;FMTTYPE=text/html:
LOCATION:114 Haddontowne Court Cherry Hill\, NJ 08034
UID:e.9292.607
SEQUENCE:3
DTSTAMP:20260421T120723Z
URL:https://members.blsj.com/events/details/board-of-directors-meeting-07-21-2010-07-21-2010-607
END:VEVENT

END:VCALENDAR
