BEGIN:VCALENDAR
VERSION:2.0
PRODID:-//ChamberMaster//Event Calendar 2.0//EN
METHOD:PUBLISH
X-PUBLISHED-TTL:P3D
REFRESH-INTERVAL:P3D
CALSCALE:GREGORIAN
BEGIN:VEVENT
DTSTART:20050518T160000Z
DTEND:20050518T220000Z
X-MICROSOFT-CDO-ALLDAYEVENT:FALSE
SUMMARY:Board of Directors Meeting - 05/18/2005
DESCRIPTION:Don't forget to register for the BLSJ Hall of Fame Dinner which follows the Board of Directors Meeting at 6 pm.
X-ALT-DESC;FMTTYPE=text/html:Don't forget to register for the BLSJ Hall of Fame Dinner which follows the Board of Directors Meeting at 6 pm.
LOCATION:Regency Palace - Palace Salon Fellowship Road Mt. Laurel\, NJ 08054
UID:e.9292.247
SEQUENCE:3
DTSTAMP:20260421T005102Z
URL:https://members.blsj.com/events/details/board-of-directors-meeting-05-18-2005-05-18-2005-247
END:VEVENT

END:VCALENDAR
