BEGIN:VCALENDAR
VERSION:2.0
PRODID:-//ChamberMaster//Event Calendar 2.0//EN
METHOD:PUBLISH
X-PUBLISHED-TTL:P3D
REFRESH-INTERVAL:P3D
CALSCALE:GREGORIAN
BEGIN:VEVENT
DTSTART:20050420T160000Z
DTEND:20050420T220000Z
X-MICROSOFT-CDO-ALLDAYEVENT:FALSE
SUMMARY:Board of Directors Meeting - 04/20/2005
DESCRIPTION:
X-ALT-DESC;FMTTYPE=text/html:
LOCATION:Regency Palace Fellowship Road Mt. Laurel\, NJ 08054
UID:e.9292.355
SEQUENCE:3
DTSTAMP:20260420T233827Z
URL:https://members.blsj.com/events/details/board-of-directors-meeting-04-20-2005-04-20-2005-355
END:VEVENT

END:VCALENDAR
