BEGIN:VCALENDAR
VERSION:2.0
PRODID:-//ChamberMaster//Event Calendar 2.0//EN
METHOD:PUBLISH
X-PUBLISHED-TTL:P3D
REFRESH-INTERVAL:P3D
CALSCALE:GREGORIAN
BEGIN:VEVENT
DTSTART:20100224T170000Z
DTEND:20100224T170000Z
X-MICROSOFT-CDO-ALLDAYEVENT:FALSE
SUMMARY:BLSJ Business Card Exchange
DESCRIPTION:GREAT NETWORKING EVENT\n BUSINESS CARD EXCHANGE\n   Date: Wednesday\, February 24th\n Time: 5:00-7:00pm\n Location: William Douglas Steakhouse\n Garden State Park\, 941 Haddonfield Rd\, Cherry Hill\, NJ 08002 NO COST TO ATTEND - CASH BAR\n \n Appetizers Sponsored By MetLife Home Loans\n RSVP to Nicole Hantman (609) 471-5892 or nicolehantman@aol.com
X-ALT-DESC;FMTTYPE=text/html:<p><strong>GREAT NETWORKING EVENT</strong><br /> <strong>BUSINESS CARD EXCHANGE</strong><br /> &nbsp\;</p> <p>Date: Wednesday\, February 24th<br /> Time: 5:00-7:00pm<br /> Location: William Douglas Steakhouse<br /> Garden State Park\, 941 Haddonfield Rd\, Cherry Hill\, NJ 08002</p> <p>NO COST TO ATTEND - CASH BAR<br /> <br /> Appetizers Sponsored By MetLife Home Loans<br /> RSVP to Nicole Hantman (609) 471-5892 or nicolehantman@aol.com<br /> <br /> &nbsp\;</p>
LOCATION:Garden State Park\, Cherry Hill\, NJ 941 Haddonfield Rd Cherry Hill\, NJ 08002
UID:e.9292.786
SEQUENCE:3
DTSTAMP:20260421T193815Z
URL:https://members.blsj.com/events/details/blsj-business-card-exchange-02-24-2010-786
END:VEVENT

END:VCALENDAR
