BEGIN:VCALENDAR
VERSION:2.0
PRODID:-//ChamberMaster//Event Calendar 2.0//EN
METHOD:PUBLISH
X-PUBLISHED-TTL:P3D
REFRESH-INTERVAL:P3D
CALSCALE:GREGORIAN
BEGIN:VEVENT
DTSTART:20060209T230000Z
DTEND:20060209T170000Z
X-MICROSOFT-CDO-ALLDAYEVENT:FALSE
SUMMARY:Basic Estate Planning:Preserve & Transition Assets to Future Gene
DESCRIPTION:Presented by: Elaine J. Petruzziello\, Esq. Flaster/Greenberg P.C.  Part of the American Dream is to accumulate assets and create an estate that can be inherited by the next generation.  The best way to realize this dream is to ensure that your estate planning documents have been properly prepared to address your unique situations.  This program will address what to consider in order to accomplish these goals.     Retirement Planning    Beneficiary Designations for IRAs\, 401(k)s and Qualified Plans    Income Tax Consequences    Probate Assets    Tenants by the Entirety    Joint Tenants with Right of Survivorship    Life Insurance    Beneficiary Designations    Gift Planning     Family Limited Liability Company    Annual Exclusion - $11\,000 per year    Charitable Gifting    Estate Planning    Purposes\, holders and revocable nature of:    Durable General Power of Attorney    Medical Power of Attorney    Living Will    Last Will and Testament    Executors\, Trustees\, Guardians    Trusts for Spouse/Children    Powers of Appointment for Spouse/Children    Medicaid Planning
X-ALT-DESC;FMTTYPE=text/html:Presented by: Elaine J. Petruzziello\, Esq. Flaster/Greenberg P.C.  Part of the American Dream is to accumulate assets and create an estate that can be inherited by the next generation.  The best way to realize this dream is to ensure that your estate planning documents have been properly prepared to address your unique situations.  This program will address what to consider in order to accomplish these goals.     Retirement Planning    Beneficiary Designations for IRAs\, 401(k)s and Qualified Plans    Income Tax Consequences    Probate Assets    Tenants by the Entirety    Joint Tenants with Right of Survivorship    Life Insurance    Beneficiary Designations    Gift Planning     Family Limited Liability Company    Annual Exclusion - $11\,000 per year    Charitable Gifting    Estate Planning    Purposes\, holders and revocable nature of:    Durable General Power of Attorney    Medical Power of Attorney    Living Will    Last Will and Testament    Executors\, Trustees\, Guardians    Trusts for Spouse/Children    Powers of Appointment for Spouse/Children    Medicaid Planning 
LOCATION:Builders League Cherry Hill\, NJ 08034
UID:e.9292.272
SEQUENCE:3
DTSTAMP:20260421T122842Z
URL:https://members.blsj.com/events/details/basic-estate-planning-preserve-transition-assets-to-future-gene-02-09-2006-272
END:VEVENT

END:VCALENDAR
