BEGIN:VCALENDAR
VERSION:2.0
PRODID:-//ChamberMaster//Event Calendar 2.0//EN
METHOD:PUBLISH
X-PUBLISHED-TTL:P3D
REFRESH-INTERVAL:P3D
CALSCALE:GREGORIAN
BEGIN:VEVENT
DTSTART:20050210T230000Z
DTEND:20050210T170000Z
X-MICROSOFT-CDO-ALLDAYEVENT:FALSE
SUMMARY:Bankruptcy Laws - POSTPONED
DESCRIPTION:Bankruptcy Laws Impacting Contractors\, Builders\, Brokers\, and Developers  I.   Recent Developments concerning commercial and             residential leasing.  II.     Right to recovery- Are you licensed?  III.    Treatment of Brokers  IV.     Letters of credit- what is property?  V.       Single asset real estate cases  VI.      Abandonment- What it means to you.  VII.    Construction claims- Pre-or Post petition.  This seminar is presented by Scott H Marcus Esq.\, of the law firm of Marcus Broder Ahart and the information contained herein is intended solely for the use of the members of the Builders League of South Jersey
X-ALT-DESC;FMTTYPE=text/html:Bankruptcy Laws Impacting Contractors\, Builders\, Brokers\, and Developers  I.   Recent Developments concerning commercial and             residential leasing.  II.     Right to recovery- Are you licensed?  III.    Treatment of Brokers  IV.     Letters of credit- what is property?  V.       Single asset real estate cases  VI.      Abandonment- What it means to you.  VII.    Construction claims- Pre-or Post petition.  This seminar is presented by Scott H Marcus Esq.\, of the law firm of Marcus Broder Ahart and the information contained herein is intended solely for the use of the members of the Builders League of South Jersey       
LOCATION:BLSJ Cherry Hill\, NJ 08034
UID:e.9292.271
SEQUENCE:3
DTSTAMP:20260420T210107Z
URL:https://members.blsj.com/events/details/bankruptcy-laws-postponed-02-10-2005-271
END:VEVENT

END:VCALENDAR
