BEGIN:VCALENDAR
VERSION:2.0
PRODID:-//ChamberMaster//Event Calendar 2.0//EN
METHOD:PUBLISH
X-PUBLISHED-TTL:P3D
REFRESH-INTERVAL:P3D
CALSCALE:GREGORIAN
BEGIN:VEVENT
DTSTART:20091116T230000Z
DTEND:20091116T170000Z
X-MICROSOFT-CDO-ALLDAYEVENT:FALSE
SUMMARY:AWARDS COMMITTEE MEETING - 11/16/2009
DESCRIPTION:The NJBA's Awards Committee in the process of selecting individuals that the Association will recognize through its Annual Industry Awards program.  The NJBA Annual Industry Awards celebrate accomplishment in a variety of arenas   including business\, civic\, charitable\, and political activities. They emphasize contributions at the state level\, while taking into account their local and national commitments.  You have already received a list of the Annual Awards and a brief summary of the criteria upon which each is based along with a list of past winners. This meeting is to formalize our nominees for these awards.
X-ALT-DESC;FMTTYPE=text/html:<p>The NJBA&rsquo\;s Awards Committee in the process of selecting individuals that the Association will recognize through its Annual Industry Awards program.</p> <p>&nbsp\;The NJBA Annual Industry Awards celebrate accomplishment in a variety of arenas &ndash\; including business\, civic\, charitable\, and political activities. They emphasize contributions at the state level\, while taking into account their local and national commitments.</p> <p>&nbsp\;You have already received a list of the Annual Awards and a brief summary of the criteria upon which each is based along with a list of past winners.</p> <p>This meeting is&nbsp\;to formalize our nominees for these awards.</p> <p>&nbsp\;</p>
LOCATION:114 Haddontowne Court Cherry Hill\, NJ 08034
UID:e.9292.599
SEQUENCE:3
DTSTAMP:20260421T235555Z
URL:https://members.blsj.com/events/details/awards-committee-meeting-11-16-2009-11-16-2009-599
END:VEVENT

END:VCALENDAR
