BEGIN:VCALENDAR
VERSION:2.0
PRODID:-//ChamberMaster//Event Calendar 2.0//EN
METHOD:PUBLISH
X-PUBLISHED-TTL:P3D
REFRESH-INTERVAL:P3D
CALSCALE:GREGORIAN
BEGIN:VEVENT
DTSTART:20100908T160000Z
DTEND:20100908T220000Z
X-MICROSOFT-CDO-ALLDAYEVENT:FALSE
SUMMARY:Awards Committee Meeting - 09/08/2010
DESCRIPTION:MEMO TO: Awards Committee\n \n FROM: Sean Olin\, Chairman \n \n SUBJECT: Awards Committee Meeting\n \n DATE: Wednesday\, September 8\, 2010\n \n TIME: 1:00 p.m.\n \n PLACE: League Office\n \n AGENDA: \n * Conflict of Interest Statement\n * Mission Statement\n \n Review Nominations for:\n \n 1. Builder of the Year\, \n \n 2.  Associate of the Year\n \n 3. Joseph Van Osten Lifetime Achievement Award\n  4. Associate Committee Appreciation Award\n \n 5. Jirar Hovnanian Humanitarian Award\n \n Please RSVP no later than Friday\, September 3rd ___ I will attend Name: ________________________________________________
X-ALT-DESC;FMTTYPE=text/html:<p><span style="font-family: Arial">MEMO TO: Awards Committee<br /> <br /> FROM: Sean Olin\, Chairman <br /> <br /> SUBJECT: Awards Committee Meeting<br /> <br /> DATE: Wednesday\, September 8\, 2010<br /> <br /> <span style="font-size: small"><span style="color: #ff0000"><strong>TIME: 1:00 p.m.<br /> </strong></span></span><span style="color: #ff0000" /><br /> PLACE: League Office<br /> <br /> AGENDA: <br /> * Conflict of Interest Statement</span><br /> * Mission Statement<br /> <br /> Review Nominations for:<span style="font-family: Arial"><br /> <br /> 1. Builder of the Year\, <br /> <br /> 2.&nbsp\; Associate of the Year<br /> <br /> 3. Joseph Van Osten Lifetime Achievement Award<br /> </span></p> <p><span style="font-family: Arial">4. Associate Committee Appreciation Award<br /> <br /> 5. Jirar Hovnanian Humanitarian Award<br /> <br /> Please RSVP no later than Friday\,&nbsp\;September 3rd</span></p> <p><span style="font-family: Arial">___ I will attend</span></p> <p><span style="font-family: Arial">Name: ________________________________________________</span></p>
LOCATION:114 Haddontowne Court Cherry Hill\, NJ 08034
UID:e.9292.270
SEQUENCE:3
DTSTAMP:20260421T092956Z
URL:https://members.blsj.com/events/details/awards-committee-meeting-09-08-2010-09-08-2010-270
END:VEVENT

END:VCALENDAR
