BEGIN:VCALENDAR
VERSION:2.0
PRODID:-//ChamberMaster//Event Calendar 2.0//EN
METHOD:PUBLISH
X-PUBLISHED-TTL:P3D
REFRESH-INTERVAL:P3D
CALSCALE:GREGORIAN
BEGIN:VEVENT
DTSTART:20070126T230000Z
DTEND:20070126T170000Z
X-MICROSOFT-CDO-ALLDAYEVENT:FALSE
SUMMARY:Awards Committee Meeting - 01/26/2007
DESCRIPTION:Agenda:\n 1.    Roles & Responsibilities of the Awards Committee\n 2.    General Understanding of when the Committee meets\n 3.    New Criteria for specific awards\n 4.    Nominations & Voting for Hall of Fame\n \n Committee Description: Committee to select members for the BLSJ Hall of Fame\, Builder of the Year\, Associate of the Year\, Distinguisted Service Award\, Joseph S. Van Osten Lifetime Achievement Award\, nominates members for NJBA Awards.
X-ALT-DESC;FMTTYPE=text/html:Agenda:<br /> 1.&nbsp\;&nbsp\;  Roles &amp\; Responsibilities of the Awards Committee<br /> 2.&nbsp\;&nbsp\;  General Understanding of when the Committee meets<br /> 3.&nbsp\;&nbsp\;  New Criteria for specific awards<br /> 4.&nbsp\;&nbsp\;  Nominations &amp\; Voting for Hall of Fame<br /> <br /> Committee Description: Committee to select members for the BLSJ Hall of Fame\, Builder of the Year\, Associate of the Year\, Distinguisted Service Award\, Joseph S. Van Osten Lifetime Achievement Award\, nominates members for NJBA Awards.
LOCATION:Builders League office 114 Haddontowne Ct Cherry Hill\, NJ 08034
UID:e.9292.451
SEQUENCE:3
DTSTAMP:20260422T052413Z
URL:https://members.blsj.com/events/details/awards-committee-meeting-01-26-2007-01-26-2007-451
END:VEVENT

END:VCALENDAR
