BEGIN:VCALENDAR
VERSION:2.0
PRODID:-//ChamberMaster//Event Calendar 2.0//EN
METHOD:PUBLISH
X-PUBLISHED-TTL:P3D
REFRESH-INTERVAL:P3D
CALSCALE:GREGORIAN
BEGIN:VEVENT
DTSTART:20090522T160000Z
DTEND:20090522T160000Z
X-MICROSOFT-CDO-ALLDAYEVENT:FALSE
SUMMARY:AUDIO SEMINAR: The EPA'S NEW LEAD PAINT RULE: WHAT IT MEANS FOR YOU
DESCRIPTION:Audio Seminar - The EPA'S New Lead Paint Rule: What It Means for You  The EPA's New Lead Paint Rule Will Change the Way You Do Business.  \n If you do almost any kind of construction or installation work inside homes or child occupied facilities built before 1978\, you need to know about the EPA's new Lead: Renovation\, Repair and Painting rule\, which will become mandatory in April 2010.   In short\, the Lead: Renovation\, Repair and Painting rule requires: *\n An eight-hour training session\n *\n New work practices\, including a cleaning test\n *\n Keeping records for three years The rule also prohibits some work practices. \n This audio seminar will explain\, in detail\, what the new rule covers and exactly what you'll need to do to be compliant. A panel of experts will discuss the rule and answer your questions. You'll also find out where to get additional information.   Don't wait until 2010 to get informed! Get on top of these changes before they get on top of you.   Speakers:\n Brindley Byrd\, CGR\, CAPS\, of QX2 Contracting\, Lansing\, MI\n Bob Hanbury\, CGR\, of House of Hanbury\, Newington\, CT\n Matt Watkins\, NAHB Environmental Policy Analyst     Educational Credit: 1.0 CEU toward CGR\, CAPS and other NAHB designations   $15 includes access to the streaming audio file of the original October 28\, 2008 broadcast and handout materials including a marketing bonus.
X-ALT-DESC;FMTTYPE=text/html:<p> <td valign="top" style="padding-right: 20px">&nbsp\;</td> &nbsp\; &nbsp\; &nbsp\; &nbsp\;&nbsp\;&nbsp\;&nbsp\;&nbsp\;&nbsp\;&nbsp\;&nbsp\;&nbsp\;&nbsp\;&nbsp\;&nbsp\;&nbsp\;&nbsp\;&nbsp\;&nbsp\;&nbsp\;&nbsp\;&nbsp\;&nbsp\;&nbsp\;&nbsp\;&nbsp\;&nbsp\;&nbsp\;&nbsp\;&nbsp\;&nbsp\;&nbsp\;&nbsp\;&nbsp\;&nbsp\;&nbsp\;&nbsp\;&nbsp\;&nbsp\;&nbsp\;&nbsp\;&nbsp\;&nbsp\;&nbsp\;&nbsp\;&nbsp\;&nbsp\;&nbsp\;&nbsp\;&nbsp\;&nbsp\;&nbsp\;&nbsp\;&nbsp\; <span style="color: #ff0000"><span style="font-size: small"><b>Audio Seminar - The EPA&rsquo\;S&nbsp\;</b><b>New Lead Paint Rule: What It Means for You</b></span></span><span style="font-size: small" /></p> <div style="text-align: center"><span style="color: #ff0000"><span style="font-size: small" /></span></div> <div style="text-align: center"><span style="color: #000000"><span><span style="font-size: small"><strong>The EPA&rsquo\;s New Lead Paint Rule Will Change the Way You Do Business.</strong></span></span></span><span style="color: #ff0000"><span style="font-size: small"><strong> </strong> <p><span style="color: #000000"><br /> <strong>If you do almost any kind of construction or installation work inside homes or child occupied facilities built before 1978\, you need to know about the EPA&rsquo\;s new Lead: Renovation\, Repair and Painting rule\, which will become mandatory in April 2010.</strong></span></p> <p><strong>&nbsp\;</strong></p> <p><span style="color: #000000"><strong>In short\, the Lead: Renovation\, Repair and Painting rule requires:</strong></span></p> <p><span style="color: #000000"><strong>*<br /> An eight-hour training session<br /> *<br /> New work practices\, including a cleaning test<br /> *<br /> Keeping records for three years</strong></span></p> <p><span style="color: #000000"><strong>The rule also prohibits some work practices.</strong></span></p> <p><span style="color: #000000"><br /> <strong>This audio seminar will explain\, in detail\, what the new rule covers and exactly what you&rsquo\;ll need to do to be compliant. A panel of experts will discuss the rule and answer your questions. You&rsquo\;ll also find out where to get additional information.</strong></span></p> <p><strong>&nbsp\;</strong></p> <p><span style="color: #000000"><strong>Don&rsquo\;t wait until 2010 to get informed! Get on top of these changes before they get on top of you.</strong></span></p> <p><strong>&nbsp\;</strong></p> <p><span style="color: #000000"><strong>Speakers:<br /> Brindley Byrd\, CGR\, CAPS\, of QX2 Contracting\, Lansing\, MI<br /> Bob Hanbury\, CGR\, of House of Hanbury\, Newington\, CT<br /> Matt Watkins\, NAHB Environmental Policy Analyst </strong></span></p> <p><strong>&nbsp\;</strong></p> <p><strong>&nbsp\;</strong><span style="font-size: 12pt\; font-family: Arial\; mso-fareast-font-family: 'Times New Roman'\; mso-ansi-language: EN-US\; mso-fareast-language: EN-US\; mso-bidi-language: AR-SA"><em><font color="#000000">Educational Credit: 1.0 CEU toward CGR\, CAPS and other NAHB designations</font></em></span></p> <p><strong>&nbsp\;</strong></p> </span></span><span style="color: #000000">$15 includes access to the streaming audio file of the original October 28\, 2008 broadcast and handout materials including a marketing bonus.</span></div> <p>&nbsp\;</p>
LOCATION:114 Haddontowne Court Cherry Hill\, NJ 08034
UID:e.9292.216
SEQUENCE:3
DTSTAMP:20260422T075256Z
URL:https://members.blsj.com/events/details/audio-seminar-the-epa-s-new-lead-paint-rule-what-it-means-for-you-05-22-2009-216
END:VEVENT

END:VCALENDAR
