BEGIN:VCALENDAR
VERSION:2.0
PRODID:-//ChamberMaster//Event Calendar 2.0//EN
METHOD:PUBLISH
X-PUBLISHED-TTL:P3D
REFRESH-INTERVAL:P3D
CALSCALE:GREGORIAN
BEGIN:VEVENT
DTSTART:20061215T230000Z
DTEND:20061215T230000Z
X-MICROSOFT-CDO-ALLDAYEVENT:FALSE
SUMMARY:Associates Luncheon - REMINDER
DESCRIPTION:To: Associate Committee Chairmen/Vice -Chairs/Volunteers From: Michael Kurpiel\, VP Associate Affairs Re: Associate Luncheon You are invited to join us as we say "Thank You" for your dedication and everything you do for the Builders League and Associate's Committee throughout the year. Please join us: Friday\, December 15\, 2006 At: Chammps Sports Bar Route 73\, Marlton\, NJ  Time: 11:30 a.m. Please RSVP No Later Than Monday\, December 11th to marlene@blsj.com or fax/856-616-8460. Name:__________________________________ Company: _____________________________ ___Yes\, I will attend
X-ALT-DESC;FMTTYPE=text/html:<p>To: Associate Committee Chairmen/Vice -Chairs/Volunteers</p> <p>From: Michael Kurpiel\, VP Associate Affairs</p> <p>Re: Associate Luncheon</p> <p>You are invited to join us as we say &quot\;Thank You&quot\; for your dedication and everything you do for the Builders League and Associate&rsquo\;s Committee throughout the year.</p> <p>Please join us: Friday\, December 15\, 2006</p> <p>At: Chammps Sports Bar</p> <p>Route 73\, Marlton\, NJ </p> <p>Time: 11:30 a.m.</p> <p>Please RSVP No Later Than Monday\, December 11th to <a href="mailto:marlene@blsj.com">marlene@blsj.com</a> or fax/856-616-8460.</p> <p>Name:__________________________________ Company: _____________________________</p> <p>___Yes\, I will attend</p>
LOCATION:Chammps Restaurant 25 Route 73 South Marlton\, NJ 08053
UID:e.9292.446
SEQUENCE:3
DTSTAMP:20260422T023144Z
URL:https://members.blsj.com/events/details/associates-luncheon-reminder-12-15-2006-446
END:VEVENT

END:VCALENDAR
