BEGIN:VCALENDAR
VERSION:2.0
PRODID:-//ChamberMaster//Event Calendar 2.0//EN
METHOD:PUBLISH
X-PUBLISHED-TTL:P3D
REFRESH-INTERVAL:P3D
CALSCALE:GREGORIAN
BEGIN:VEVENT
DTSTART:20041012T160000Z
DTEND:20041012T160000Z
X-MICROSOFT-CDO-ALLDAYEVENT:FALSE
SUMMARY:Associates Committee Meeting - 10/12/2004
DESCRIPTION:
X-ALT-DESC;FMTTYPE=text/html:
LOCATION:BLSJ Cherry Hill\, NJ 08034
UID:e.9292.118
SEQUENCE:3
DTSTAMP:20260420T164054Z
URL:https://members.blsj.com/events/details/associates-committee-meeting-10-12-2004-10-12-2004-118
END:VEVENT

END:VCALENDAR
