BEGIN:VCALENDAR
VERSION:2.0
PRODID:-//ChamberMaster//Event Calendar 2.0//EN
METHOD:PUBLISH
X-PUBLISHED-TTL:P3D
REFRESH-INTERVAL:P3D
CALSCALE:GREGORIAN
BEGIN:VEVENT
DTSTART:20100907T160000Z
DTEND:20100907T220000Z
X-MICROSOFT-CDO-ALLDAYEVENT:FALSE
SUMMARY:ASSOCIATES COMMITTEE MEETING - 09/07/2010
DESCRIPTION:TO: Associates Committee\n \n FROM: Nicole Hantman ~ Chair / Nicolehantman@aol.com\n \n SUBJECT: ASSOCIATES COMMITTEE MEETING\n \n PLACE: League Office\n \n DATE: September 7\, 2010 TIME: 11:00 AM\n \n MEETING AGENDA: \n 1. Welcome remarks: N. Hantman\n 2. Conflict of Interest Statement\n 3. Mission Statement\n 4. Introduction of all in attendance\n 5. September   Associate Appreciation Month: Resolution from NJBA President Thomas Critelli\n 6. Special Leadership Presentation - Michael Kurpiel\, ProBuild: National Associate Chairman at National Association of Home Builders     \n          Associate Leadership: Roundtable Discussion on Keys to Branding Your Professionalism     \n             A. First impressions of a casual observer \n             B. The purpose of BLSJ \n             C.  Ways to learn about industry \n             D. Way to become involved within industry \n             E.  Leadership: The path (in summary) \n             F.  Utilizing your leadership role \n             G. Branding the blend of leadership role with your employers ROI \n                 General discussion \n  7. Committee Updates and Review: \n a. Summer golf outing: June 21st   Laurel Creek Country Club\n b. Fall golf outing: September 20th   Little Mill Country Club\n c. Associate Expo: October 20th   Lucien's Manor\n d. Scotch and Cigar Night: November 23rd   LaVeranda\, Phila\, PA\n e. BPAC Ad Journal: Peer-to-Peer Outreach\n 8. Member Services   J. Sauder\n 9. NJBA Associates update- N. Hantman\n 10. NAHB update   Michael Kurpiel\n 11. Upcoming Speakers: \n October   Howard VanNatta\, VanNatta Mechanical Corp.: NJBA Associate Vice President\n 12. SJBPAC Report\n 13. Lead Swap\n 14. Old Business/New Business\n a. Associate of the 3rd Quarter Nominations   send to NJBA by 9/14/2010\n b. Nominations for Builder of the Year\n c. Nominations for Associate of the Year\n d. Nominations for Associates Appreciation Award\n \n Next Meeting: October 5th\, 2010\n \n PLEASE NOTE SEATING IS LIMITED TO THE FIRST 45 PEOPLE REGISTERED...PLEASE RSVP IF YOU WILL ATTEND ___ YES Name:______________________________________________
X-ALT-DESC;FMTTYPE=text/html:<p>TO: Associates Committee<br /> <br /> FROM: Nicole Hantman ~ Chair / Nicolehantman@aol.com<br /> <br /> SUBJECT: ASSOCIATES COMMITTEE MEETING<br /> <br /> PLACE: League Office<br /> <br /> <span style="font-size: x-small"><strong>DATE: September 7\, 2010</strong></span><span style="font-size: small" /> <u><span style="font-size: small"><strong><span style="color: #ff0000">TIME: 11:00 AM</span></strong></span><br /> </u><br /> MEETING AGENDA: <br /> 1. Welcome remarks: N. Hantman<br /> 2. Conflict of Interest Statement<br /> 3. Mission Statement<br /> 4. Introduction of all in attendance<br /> 5. September &ndash\; Associate Appreciation Month: Resolution from NJBA President Thomas Critelli<br /> <span style="color: #ff0000">6. Special Leadership Presentation - Michael Kurpiel\, ProBuild: National Associate Chairman at National Association of Home Builders&nbsp\;&nbsp\;&nbsp\;&nbsp\; <br /> </span>&nbsp\;&nbsp\;&nbsp\;&nbsp\;&nbsp\;&nbsp\;&nbsp\;&nbsp\; <span style="color: #ff0000">Associate Leadership: Roundtable Discussion on Keys to Branding Your Professionalism&nbsp\;&nbsp\;&nbsp\;&nbsp\;&nbsp\;<br /> &nbsp\;&nbsp\;&nbsp\;&nbsp\;&nbsp\;&nbsp\;&nbsp\;&nbsp\;&nbsp\;&nbsp\;&nbsp\; A. First impressions of a casual observer <br /> &nbsp\;&nbsp\;&nbsp\;&nbsp\;&nbsp\;&nbsp\;&nbsp\;&nbsp\;&nbsp\;&nbsp\;&nbsp\; B. The purpose of BLSJ <br /> &nbsp\;&nbsp\;&nbsp\;&nbsp\;&nbsp\;&nbsp\;&nbsp\;&nbsp\;&nbsp\;&nbsp\;&nbsp\; C.&nbsp\;&nbsp\;Ways to learn about industry&nbsp\;<br /> &nbsp\;&nbsp\;&nbsp\;&nbsp\;&nbsp\;&nbsp\;&nbsp\;&nbsp\;&nbsp\;&nbsp\;&nbsp\; D. Way to become involved within industry <br /> &nbsp\;&nbsp\;&nbsp\;&nbsp\;&nbsp\;&nbsp\;&nbsp\;&nbsp\;&nbsp\;&nbsp\;&nbsp\; E.&nbsp\; Leadership: The path (in summary) <br /> &nbsp\;&nbsp\;&nbsp\;&nbsp\;&nbsp\;&nbsp\;&nbsp\;&nbsp\;&nbsp\;&nbsp\;&nbsp\; F.&nbsp\; Utilizing your leadership role&nbsp\;<br /> &nbsp\;&nbsp\;&nbsp\;&nbsp\;&nbsp\;&nbsp\;&nbsp\;&nbsp\;&nbsp\;&nbsp\;&nbsp\; G. Branding the blend of leadership role with your employers ROI <br /> &nbsp\;&nbsp\;&nbsp\;&nbsp\;&nbsp\;&nbsp\;&nbsp\;&nbsp\;&nbsp\;&nbsp\;&nbsp\;&nbsp\;&nbsp\;&nbsp\;&nbsp\; General discussion <br /> </span></p> <p>7. Committee Updates and Review: <br /> a. Summer golf outing: June 21st &ndash\; Laurel Creek Country Club<br /> b. Fall golf outing: September 20th &ndash\; Little Mill Country Club<br /> c. Associate Expo: October 20th &ndash\; Lucien&rsquo\;s Manor<br /> d. Scotch and Cigar Night: November 23rd &ndash\; LaVeranda\, Phila\, PA<br /> e. BPAC Ad Journal: Peer-to-Peer Outreach<br /> 8. Member Services &ndash\; J. Sauder<br /> 9. NJBA Associates update- N. Hantman<br /> 10. NAHB update &ndash\; Michael Kurpiel<br /> 11. Upcoming Speakers: <br /> October &ndash\; Howard VanNatta\, VanNatta Mechanical Corp.: NJBA Associate Vice President<br /> 12. SJBPAC Report<br /> 13. Lead Swap<br /> 14. Old Business/New Business<br /> a. Associate of the 3rd Quarter Nominations &ndash\; send to NJBA by 9/14/2010<br /> b. Nominations for Builder of the Year<br /> c. Nominations for Associate of the Year<br /> d. Nominations for Associates Appreciation Award<br /> <br /> Next Meeting: October 5th\, 2010<br /> <br /> PLEASE NOTE SEATING IS LIMITED TO THE FIRST 45 PEOPLE REGISTERED...PLEASE RSVP IF YOU WILL ATTEND</p> <p>___ YES</p> <p>Name:______________________________________________<br /> &nbsp\;</p>
LOCATION:114 Haddontowne Court Cherry Hill\, NJ 08034
UID:e.9292.351
SEQUENCE:3
DTSTAMP:20260421T093044Z
URL:https://members.blsj.com/events/details/associates-committee-meeting-09-07-2010-09-07-2010-351
END:VEVENT

END:VCALENDAR
