BEGIN:VCALENDAR
VERSION:2.0
PRODID:-//ChamberMaster//Event Calendar 2.0//EN
METHOD:PUBLISH
X-PUBLISHED-TTL:P3D
REFRESH-INTERVAL:P3D
CALSCALE:GREGORIAN
BEGIN:VEVENT
DTSTART:20090602T160000Z
DTEND:20090602T160000Z
X-MICROSOFT-CDO-ALLDAYEVENT:FALSE
SUMMARY:Associates Committee Meeting - 06/02/2009
DESCRIPTION:TO: Associates Committee\n FROM: Nicole Hantman ~ Vice President of Associates Affairs\n Nicolehantman@aol.com\n SUBJECT: ASSOCIATES COMMITTEE MEETING \n PLACE: League Office\n DATE: June 2\, 2009 \n Time: 10 AM \n MEETING AGENDA 1. Welcome remarks: N. Hantman 2. Conflict of Interest Statement 3. Mission statement 4. Introduction of all in attendance 5. Guest Speaker Stephanie Szklarski \, Sandler Training presents : \n Back to Basics !! Back to Basic! ( but ...... What are they ? ) Learn to gain credibility - in the first 3 minutes... Learn to ID the "tough customer / prospect " and the techiques for communicating The art of effective rapport Learn how now more than ever \, a system is needed for effective business development In this economy\, yoe can't afford to "wing it " \n \n 6. 2009 Sub Committee Chairs and events   \n C. BPAC Ad Journal: \n Chair: P. DiGiambatista Co-Chair: E. McMahon\n D. Woodcrest Golf Outing: June 30\, 2009.\n Chair: C. Flowers Co-Chair: J. Craft\n E. Fall Golf Outing:\n Chair: D. Robinson Co-Chair: J. Nowak\n F. Associate Expo:\n Chair: A. Goldman Co-Chair: J. Michaelis\n G. Cigar Night: Chair: J. Sauder 7. Member Services  J. Sauder\n 8. NJBA Associates update-N. Hantman\n 9. Lead Swap\n 10. Old Business/New Business
X-ALT-DESC;FMTTYPE=text/html:<p>TO: Associates Committee<br /> FROM: Nicole Hantman ~ Vice President of Associates Affairs<br /> Nicolehantman@aol.com<br /> SUBJECT: ASSOCIATES COMMITTEE MEETING <br /> PLACE: League Office<br /> DATE: June 2\, 2009 <br /> Time: 10 AM <br /> MEETING AGENDA</p> <p>1. Welcome remarks: N. Hantman</p> <p>2. Conflict of Interest Statement</p> <p>3. Mission statement</p> <p>4. Introduction of all in attendance</p> <p>5. Guest Speaker Stephanie Szklarski \, Sandler Training presents : <br /> Back to Basics !!</p> <p>Back to Basic! ( but ...... What are they ? )</p> <p>Learn to gain credibility - in the first 3 minutes...</p> <p>Learn to ID the &quot\;tough customer / prospect &quot\; and the techiques for communicating</p> <p>The art of effective rapport</p> <p>Learn how now more than ever \, a system is needed for effective business development</p> <p>In this economy\, yoe can't afford to &quot\;wing it &quot\; <br /> <br /> 6. 2009 Sub Committee Chairs and events&nbsp\;&nbsp\;&nbsp\;<br /> C. BPAC Ad Journal: <br /> Chair: P. DiGiambatista Co-Chair: E. McMahon<br /> D. Woodcrest Golf Outing: June 30\, 2009.<br /> Chair: C. Flowers Co-Chair: J. Craft<br /> E. Fall Golf Outing:<br /> Chair: D. Robinson Co-Chair: J. Nowak<br /> F. Associate Expo:<br /> Chair: A. Goldman Co-Chair: J. Michaelis<br /> G. Cigar Night: Chair: J. Sauder</p> <p>7. Member Services &ndash\;J. Sauder<br /> 8. NJBA Associates update-N. Hantman<br /> 9. Lead Swap<br /> 10. Old Business/New Business</p> <p>&nbsp\;</p>
LOCATION:114 Haddontowne Court Cherry Hill\, NJ 08034
UID:e.9292.699
SEQUENCE:3
DTSTAMP:20260422T064725Z
URL:https://members.blsj.com/events/details/associates-committee-meeting-06-02-2009-06-02-2009-699
END:VEVENT

END:VCALENDAR
