BEGIN:VCALENDAR
VERSION:2.0
PRODID:-//ChamberMaster//Event Calendar 2.0//EN
METHOD:PUBLISH
X-PUBLISHED-TTL:P3D
REFRESH-INTERVAL:P3D
CALSCALE:GREGORIAN
BEGIN:VEVENT
DTSTART:20070213T230000Z
DTEND:20070213T230000Z
X-MICROSOFT-CDO-ALLDAYEVENT:FALSE
SUMMARY:ASSOCIATE SUB-COMMITTEE CHAIRMENS MEETING
DESCRIPTION:From: Nicole Hantman\, Associate Committee Chair To: Committee Chairmen & Sub-Committee Chairmen Brief meeting to review each of the committees for 2007. This meeting will be held immediately following the Associate Committee Meeting.
X-ALT-DESC;FMTTYPE=text/html:<p>From: Nicole Hantman\, Associate Committee Chair</p> <p>To: Committee Chairmen &amp\; Sub-Committee Chairmen</p> <p>Brief meeting to review each of the committees for 2007. This meeting will be held immediately following the Associate Committee Meeting.</p>
LOCATION:Builders League of South Jersey 114 Haddontowne Ct Cherry Hill\, NJ 08034
UID:e.9292.350
SEQUENCE:3
DTSTAMP:20260422T053406Z
URL:https://members.blsj.com/events/details/associate-sub-committee-chairmens-meeting-02-13-2007-350
END:VEVENT

END:VCALENDAR
