BEGIN:VCALENDAR
VERSION:2.0
PRODID:-//ChamberMaster//Event Calendar 2.0//EN
METHOD:PUBLISH
X-PUBLISHED-TTL:P3D
REFRESH-INTERVAL:P3D
CALSCALE:GREGORIAN
BEGIN:VEVENT
DTSTART:20091014T160000Z
DTEND:20091014T160000Z
X-MICROSOFT-CDO-ALLDAYEVENT:FALSE
SUMMARY:ASSOCIATE EXPO TABLE TOP NIGHT - OVER 30 BUILDING COMPANIES IN ONE ROOM FOR ONE NIGHT!!!
DESCRIPTION:The Associates Committee Presents:\n "2009 Associate Expo   Stay in the Game" \n Be a Winner ~ Save Money ~ With Our Stimulating New Prices for 2009~ Date: Wednesday\, October 14th\, 2009\n Location: Lucien's Manor 81 West White Horse Pike\, Berlin \n \n BUILDERS SCHEDULED TO ATTEND\n Alliance Homes LLC\n Arline Construction Services\, LLC\n B 3Construction and Maintenance\n Brandt & Madison Development Co.\n Bruce Paparone Inc.\n Burlington County Habitat for Humanity\n C & C Development Co. LLC   \n CWR Construction\n D'Anastasio Corporation\n D.N. DeSimone Construction\n Daniel Gregory Inc.\n Dream Works Homes\n Duco Corporation\n East Coast Building Group\n Fifth Construction\n Glendale Builders Inc.\n Habitat for Humanity\, Gloucester County\n Hollister Construction Services   \n Hooper Builders Inc.\n Insight Construction Services\n J.S. Hovnanian & Sons Inc.\n Leewood Real Estate\n MGD Development\n Main Street Homes Inc.\n Mark 1 Restoration Service\n Millennium Custom Homes\n Murphy Homes Inc.\n Paparone Housing Co. Inc.\n Piersol Homes\n Residential Construction\n Ryan Homes NJS   \n Sherwood Forest Homes\n Tim Schaeffer Communities\n Tim Schaeffer Development Corporation\n Total Custom Builders\, LLC\n  Sponsorship Opportunities - Click Here NEW TIME   6:00 p.m. until 9:00 p.m.\n This is your opportunity to inform demonstrate show your new products\, plus other products and services to the leading builders in our area!\n SCHEDULE FOR THE EVENING\n 3:00pm to 5:30pm - Set up exhibits\n 6:00pm to 9:00pm - Display exhibits\n Buffet Dinner & Exhibits Open Show your stuff: at a 6 foot table or a 10' by 10' booth space! You decide which exhibit option is best for you! EARLY BIRD: Advance reservations for Associate's Table   $395.00 per table prior to August 28th (must be paid in full)! EARLY BIRD: Advance reservations for Associate's Booths   $495.00 per booth prior to August 28th (must be paid in full)! Cost per table: After August 28th - $495.00. (NO EXCEPTIONS)\n Cost per booth: After August 28th - $595.00. (NO EXCEPTIONS) FIRST COME ~ FIRST SERVE ~ ONLY 60 SPACES AVAILABLE! BOOTH & TABLE INCLUDES:\n 1) 2 Free dinner tickets for you and a guest. Additional dinner tickets available at $60.00 per person.\n 2) 8" X 10" sign with your firm's name. We will use the firm name that you list on the reservation sheet. Reservations and firm name due by10/09/09.\n 3) Each "booth" will receive a 6-foot table\, tablecloth\, and two chairs. (Hanging items on wall is not permitted. Table top items must be able to fit on 6' X 18" table.) RULES:\n 1) SET UP TIME: Between 3:00 p.m. and 5:30 p.m.\n 2) All exhibitors must be ready by 5:30 p.m.\n 3) ELECTRICITY: Available at $65.00 per booth or table. If you need electricity\, you must notify the League in advance. A limited number of tables have access to electricity.\n 4) Hanging items on walls is not permitted. Table top items must be able to fit on 6 foot table.\n 5) To exhibit at the $395 & $495 rate\, we must receive full payment by August 28\, 2009. After August 29 the rate will be $495 & $595. \n 6) No Refunds for space after October 2\, 2009.\n 7) At the close of the exhibit you must remove your materials - between 10:00 p.m. and midnight. TABLE LOCATION:\n 1) All determinations will be made by the committee to avoid conflict with a competitor.\n 2) Space is limited\, first come first serve. DOOR PRIZES:\n Vendors are requested to supply a door prize. The prize will be raffled from your booth during the course of the evening. DINNER ONLY OPTION: NO TABLE OR BOOTH: $60 per person SPACE IS LIMITED TO THE FIRST 60 VENDORS! ACT NOW!
X-ALT-DESC;FMTTYPE=text/html:<p style="text-align: left"><span style="font-size: small"><strong>The Associates Committee Presents:<br /> &ldquo\;2009 Associate Expo &ndash\; Stay in the Game&rdquo\; <br /> Be a Winner ~ Save Money ~ With Our Stimulating New Prices for 2009~</strong></span></p> <p style="text-align: left"><span style="font-size: small">Date: Wednesday\, October 14th\, 2009<br /> Location: Lucien&rsquo\;s Manor 81 West White Horse Pike\, Berlin <br /> <br /> BUILDERS SCHEDULED TO ATTEND<br /> Alliance Homes LLC<br /> Arline Construction Services\, LLC<br /> B 3Construction and Maintenance<br /> Brandt &amp\; Madison Development Co.<br /> Bruce Paparone Inc.<br /> Burlington County Habitat for Humanity<br /> C &amp\; C Development Co. LLC&nbsp\;&nbsp\; </span><br /> <span style="font-size: small">CWR Construction<br /> D&rsquo\;Anastasio Corporation<br /> D.N. DeSimone Construction<br /> Daniel Gregory Inc.<br /> Dream Works Homes<br /> Duco Corporation<br /> East Coast Building Group<br /> Fifth Construction<br /> Glendale Builders Inc.<br /> Habitat for Humanity\, Gloucester County<br /> Hollister Construction Services&nbsp\;&nbsp\; </span><br /> <span style="font-size: small">Hooper Builders Inc.<br /> Insight Construction Services<br /> J.S. Hovnanian &amp\; Sons Inc.<br /> Leewood Real Estate<br /> MGD Development<br /> Main Street Homes Inc.<br /> Mark 1 Restoration Service<br /> Millennium Custom Homes<br /> Murphy Homes Inc.<br /> Paparone Housing Co. Inc.<br /> Piersol Homes<br /> Residential Construction<br /> Ryan Homes NJS&nbsp\;&nbsp\; <br /> Sherwood Forest Homes<br /> <span style="font-family: Arial\; font-size: 12pt">Tim Schaeffer Communities<br /> </span>Tim Schaeffer Development Corporation<br /> Total Custom Builders\, LLC<br /> </span></p> <p style="text-align: left"><span style="color: rgb(255\,0\,0)"><span style="font-size: small"><a href="https://blsj-nj.builderfusion.com/bf/messaging/2009Exposponsorform.doc">Sponsorship Opportunities - Click Here</a></span></span></p> <p style="text-align: left"><span style="font-size: small">NEW TIME &ndash\; 6:00 p.m. until 9:00 p.m.<br /> </span><span style="color: rgb(255\,0\,0)">This is your opportunity to inform&hellip\;demonstrate&hellip\;show your new products\, plus other products and services to the leading builders in our area!<br /> </span>SCHEDULE FOR THE EVENING<br /> 3:00pm to 5:30pm - Set up exhibits<br /> 6:00pm to 9:00pm - Display exhibits<br /> Buffet Dinner &amp\; Exhibits Open</p> <p style="text-align: left">Show your stuff: at a 6 foot table or a 10&rsquo\; by 10&rsquo\; booth space! You decide which exhibit option is best for you!</p> <p style="text-align: left"><span style="color: rgb(255\,0\,0)">EARLY BIRD: </span>Advance reservations for Associate&rsquo\;s Table &ndash\; $395.00 per table prior to August 28th (must be paid in full)!</p> <p style="text-align: left"><span style="color: rgb(255\,0\,0)">EARLY BIRD:</span> Advance reservations for Associate&rsquo\;s Booths &ndash\; $495.00 per booth prior to August 28th (must be paid in full)!</p> <p style="text-align: left">Cost per table: After August 28th - $495.00. (NO EXCEPTIONS)<br /> Cost per booth: After August 28th - $595.00. (NO EXCEPTIONS)</p> <p style="text-align: left">FIRST COME ~ FIRST SERVE ~ ONLY 60 SPACES AVAILABLE!</p> <p style="text-align: left">BOOTH &amp\; TABLE INCLUDES:<br /> 1) 2 Free dinner tickets for you and a guest. Additional dinner tickets available at $60.00 per person.<br /> 2) 8&rdquo\; X 10&rdquo\; sign with your firm&rsquo\;s name. We will use the firm name that you list on the reservation sheet. Reservations and firm name due by10/09/09.<br /> 3) Each &ldquo\;booth&rdquo\; will receive a 6-foot table\, tablecloth\, and two chairs. (Hanging items on wall is not permitted. Table top items must be able to fit on 6&rsquo\; X 18&rdquo\; table.)</p> <p style="text-align: left">RULES:<br /> 1) SET UP TIME: Between 3:00 p.m. and 5:30 p.m.<br /> 2) All exhibitors must be ready by 5:30 p.m.<br /> 3) ELECTRICITY: Available at $65.00 per booth or table. If you need electricity\, you must notify the League in advance. A limited number of tables have access to electricity.<br /> 4) Hanging items on walls is not permitted. Table top items must be able to fit on 6 foot table.<br /> 5) To exhibit at the $395 &amp\; $495 rate\, we must receive full payment by August 28\, 2009. After August 29 the rate will be $495 &amp\; $595. <br /> 6) No Refunds for space after October 2\, 2009.<br /> 7) At the close of the exhibit you must remove your materials - between 10:00 p.m. and midnight.</p> <p style="text-align: left">TABLE LOCATION:<br /> 1) All determinations will be made by the committee to avoid conflict with a competitor.<br /> 2) Space is limited\, first come first serve.</p> <p style="text-align: left">DOOR PRIZES:<br /> Vendors are requested to supply a door prize. The prize will be raffled from your booth during the course of the evening.</p> <p style="text-align: left">DINNER ONLY OPTION: NO TABLE OR BOOTH: $60 per person</p> <p style="text-align: left">SPACE IS LIMITED TO THE FIRST 60 VENDORS! ACT NOW! <br /> &nbsp\;</p>
LOCATION:Lucien's Manor Berlin\, NJ 00000
UID:e.9292.262
SEQUENCE:3
DTSTAMP:20260422T012206Z
URL:https://members.blsj.com/events/details/associate-expo-table-top-night-over-30-building-companies-in-one-room-for-one-night-10-14-2009-262
END:VEVENT

END:VCALENDAR
