BEGIN:VCALENDAR
VERSION:2.0
PRODID:-//ChamberMaster//Event Calendar 2.0//EN
METHOD:PUBLISH
X-PUBLISHED-TTL:P3D
REFRESH-INTERVAL:P3D
CALSCALE:GREGORIAN
BEGIN:VEVENT
DTSTART:20070123T170000Z
DTEND:20070123T170000Z
X-MICROSOFT-CDO-ALLDAYEVENT:FALSE
SUMMARY:Associate Expo-Sub Committee meeting - 01/23/2007
DESCRIPTION:BLSJ ASSOCIATE EXPO SUB-COMMITTEE\n January 23\, 2007\n \n Agenda\n \n 1. Results of Survey\n \n 2. Venue\n             Set-up\n             Booth Sizes\n \n 3. Date and Time\n \n 4. Theme\n \n 5. Increasing Builder Participation\n \n 6.  Increasing Builder interaction\n             "Scavenger Hunt" concept\n               Prize ideas\n \n 7. Increasing Associate participation\n \n 8. Revenue opportunities\n                 Sponsorships (such as bags for giveaways)\n                 Show directory\n \n 9. Next steps\n                 Next meeting date
X-ALT-DESC;FMTTYPE=text/html:<div style="text-align: center\;">BLSJ ASSOCIATE EXPO SUB-COMMITTEE<br /> January 23\, 2007<br /> <br /> Agenda<br /> <br /> <div style="text-align: left\;">1. Results of Survey<br /> <br /> 2. Venue<br /> &nbsp\;&nbsp\;&nbsp\; &nbsp\;&nbsp\;  &nbsp\;&nbsp\;  Set-up<br /> &nbsp\;&nbsp\;&nbsp\; &nbsp\;&nbsp\;  &nbsp\;&nbsp\;  Booth Sizes<br /> <br /> 3. Date and Time<br /> <br /> 4. Theme<br /> <br /> 5. Increasing Builder Participation<br /> <br /> 6.&nbsp\; Increasing Builder interaction<br /> &nbsp\;&nbsp\;&nbsp\; &nbsp\;&nbsp\;  &nbsp\;&nbsp\;  &quot\;Scavenger Hunt&quot\; concept<br /> &nbsp\;&nbsp\;&nbsp\; &nbsp\;&nbsp\;  &nbsp\;&nbsp\;  &nbsp\; Prize ideas<br /> <br /> 7. Increasing Associate participation<br /> <br /> 8. Revenue opportunities<br /> &nbsp\;&nbsp\;&nbsp\; &nbsp\;&nbsp\;  &nbsp\;&nbsp\;  &nbsp\;&nbsp\;  Sponsorships (such as bags for giveaways)<br /> &nbsp\;&nbsp\;&nbsp\; &nbsp\;&nbsp\;  &nbsp\;&nbsp\;  &nbsp\;&nbsp\;  Show directory<br /> <br /> 9. Next steps<br /> &nbsp\;&nbsp\;&nbsp\; &nbsp\;&nbsp\;  &nbsp\;&nbsp\;  &nbsp\;&nbsp\;  Next meeting date</div> </div>
LOCATION:BLSJ Cherry Hill\, NJ 08034
UID:e.9292.266
SEQUENCE:3
DTSTAMP:20260422T040043Z
URL:https://members.blsj.com/events/details/associate-expo-sub-committee-meeting-01-23-2007-01-23-2007-266
END:VEVENT

END:VCALENDAR
