BEGIN:VCALENDAR
VERSION:2.0
PRODID:-//ChamberMaster//Event Calendar 2.0//EN
METHOD:PUBLISH
X-PUBLISHED-TTL:P3D
REFRESH-INTERVAL:P3D
CALSCALE:GREGORIAN
BEGIN:VEVENT
DTSTART:20101020T160000Z
DTEND:20101020T160000Z
X-MICROSOFT-CDO-ALLDAYEVENT:FALSE
SUMMARY:ASSOCIATE EXPO - OCTOBER 20\, 2010 - ASSOCIATE & BOOTH/TABLE RESERVATIONS
DESCRIPTION:The Associates Committee Presents:\n "2010 Associate Expo"\n "HANG LOOSE WITH YOUR KAHUNAS" Date: Wednesday\, October 20th\, 2010\n Location: Lucien's Manor 81 West White Horse Pike\, Berlin  TIME   6:00 p.m. until 9:00 p.m.\n This is your opportunity to inform demonstrate show your new products\, plus other products and services to the leading builders in our area!\n \n SCHEDULE FOR THE EVENING\n 3:00pm to 5:30pm - Set up exhibits\n 6:00pm to 9:00pm - Display exhibits\n Buffet Dinner & "Begin the Hunt" BUILDERS REGISTERED TO ATTEND\n Alliance Homes\n Brandt & Madison Development Co.\n Bruce Paparone Inc.\n Buttondown Construction & Renovation\n C & C Development Co. LLC\n CWR Construction\, Inc.\n Cipriani Remodeling Solutions\n Cornerstone Building Group\n D'Anastasio Corp\n Daniel Gregory.\n Dream Works Homes\n Gloucester County Habitat for Humanity\n Group Ten Builders\n Insight Enterprises LLC\n J. Dougherty & Son.\n J.S. Hovnanian & Sons\, Inc.\n Kojeski Construction\n Leewood Real EState Group/NJ\, LLC.\n M.S. Evans Builder\n Masciangelo Construction\n Paparone Housing Company\, Inc.\n Piersol Homes\n Russo Homes\n Ryan Homes\n Seaboard Development\, LLC\n Taitco/Tait Roofing Inc./Tait Supply\n Tim Schaeffer Development Corporation\n Tim Schaeffer Development\n Town Bank Builders                                                        Show your stuff: at a 6 foot table or a 10' by 10' booth space! You decide which exhibit option is best for you! Advance reservations for Associate's Table   L.Y. $450.00 $395.00 per table prior to August 27th (must be paid in full)! Advance reservations for Associate's Booths   L.Y. $575.00 $495.00 per booth prior to August 27th (must be paid in full)! Cost per table: After August 27th - $495.00. (NO EXCEPTIONS)\n Cost per booth: After August 27th - $595.00. (NO EXCEPTIONS) FIRST COME ~ FIRST SERVE ~ ONLY 60 SPACES AVAILABLE! BOOTH & TABLE INCLUDES:\n 1) 2 Free dinner tickets for you and a guest. Additional dinner tickets available at $60.00 per person.\n 2) 8" X 10" sign with your firm's name. We will use the firm name that you list on the reservation sheet. Reservations and firm name due by10/08/10.\n 3) Each "booth" will receive a 6-foot table\, tablecloth\, and two chairs. (Hanging items on wall is not permitted. Table top items must be able to fit on 6' X 18" table.) RULES:\n 1) SET UP TIME: Between 3:00 p.m. and 5:30 p.m.\n 2) All exhibitors must be ready by 5:30 p.m.\n 3) ELECTRICITY: Available at $90.00 $65.00 per booth or table. If you need electricity\, you must notify the League in advance. A limited number of tables have access to electricity.\n 4) Hanging items on walls is not permitted. Table top items must be able to fit on 6 foot table.\n 5) To exhibit at the $395 & $495 rate\, we must receive full payment by August 27\, 2010. After August 27 the rate will be $495 & $595. \n 6) No Refunds for space after October 1\, 2010.\n 7) At the close of the exhibit you must remove your materials - between 10:00 p.m. and midnight. TABLE LOCATION:\n 1) All determinations will be made by the committee to avoid conflict with a competitor.\n 2) Space is limited\, first come first serve. DOOR PRIZES:\n Vendors are requested to supply a door prize. The prize will be raffled from your booth during the course of the evening.\n \n DINNER ONLY OPTION: NO TABLE OR BOOTH: $60 per person\; \n \n SPACE IS LIMITED TO THE FIRST 60 VENDORS! ACT NOW!
X-ALT-DESC;FMTTYPE=text/html:<p style="text-align: center"><span style="color: #ff0000"><span style="font-size: small"><strong>The Associates Committee Presents:<br /> &ldquo\;2010 Associate Expo&rdquo\;<br /> &ldquo\;HANG LOOSE WITH YOUR KAHUNAS&rdquo\;</strong></span></span><span style="font-size: small" /></p> <p style="text-align: center">Date: Wednesday\, October 20th\, 2010<br /> Location: Lucien&rsquo\;s Manor 81 West White Horse Pike\, Berlin</p> <p style="text-align: center">&nbsp\;TIME &ndash\; 6:00 p.m. until 9:00 p.m.<br /> This is your opportunity to inform&hellip\;demonstrate&hellip\;show your new products\, plus other products and services to the leading builders in our area!<br /> <br /> SCHEDULE FOR THE EVENING<br /> 3:00pm to 5:30pm - Set up exhibits<br /> 6:00pm to 9:00pm - Display exhibits<br /> Buffet Dinner &amp\; &ldquo\;Begin the Hunt&rdquo\;</p> <p style="text-align: center"><u>BUILDERS REGISTERED TO ATTEND<br /> </u><span style="color: #ff0000">Alliance Homes<br /> Brandt &amp\; Madison Development Co.<br /> Bruce Paparone Inc.<br /> Buttondown Construction &amp\; Renovation<br /> C &amp\; C Development Co. LLC<br /> CWR Construction\, Inc.<br /> Cipriani Remodeling Solutions<br /> Cornerstone Building Group<br /> D&rsquo\;Anastasio Corp<br /> Daniel Gregory.<br /> Dream Works Homes<br /> Gloucester County Habitat for Humanity<br /> Group Ten Builders<br /> Insight Enterprises LLC<br /> <span style="color: #ff0000">J. Dougherty &amp\; Son.<br /> </span>J.S. Hovnanian &amp\; Sons\, Inc.<br /> Kojeski Construction<br /> Leewood Real EState Group/NJ\, LLC.<br /> M.S. Evans Builder<br /> Masciangelo Construction<br /> Paparone Housing Company\, Inc.<br /> Piersol Homes<br /> Russo Homes<br /> Ryan Homes<br /> Seaboard Development\, LLC<br /> Taitco/Tait Roofing Inc./Tait Supply<br /> Tim Schaeffer Development Corporation<br /> Tim Schaeffer Development<br /> Town Bank Builders</span></p> <p>&nbsp\;&nbsp\;&nbsp\;&nbsp\;&nbsp\;&nbsp\;&nbsp\;&nbsp\;&nbsp\;&nbsp\;&nbsp\;&nbsp\;&nbsp\;&nbsp\;&nbsp\;&nbsp\;&nbsp\;&nbsp\;&nbsp\;&nbsp\;&nbsp\;&nbsp\;&nbsp\;&nbsp\;&nbsp\;&nbsp\;&nbsp\;&nbsp\;&nbsp\;&nbsp\;&nbsp\;&nbsp\;&nbsp\;&nbsp\;&nbsp\;&nbsp\;&nbsp\;&nbsp\;&nbsp\;&nbsp\;&nbsp\;&nbsp\;&nbsp\;&nbsp\;&nbsp\;&nbsp\;&nbsp\;&nbsp\;&nbsp\;&nbsp\;&nbsp\;&nbsp\;&nbsp\;&nbsp\; Show your stuff: at a 6 foot table or a 10&rsquo\; by 10&rsquo\; booth space! You decide which exhibit option is best for you!</p> <p style="text-align: center">Advance reservations for Associate&rsquo\;s Table &ndash\; L.Y. $450.00 $395.00 per table prior to August 27th (must be paid in full)!</p> <p style="text-align: center">Advance reservations for Associate&rsquo\;s Booths &ndash\; L.Y. $575.00 $495.00 per booth prior to August 27th (must be paid in full)!</p> <p style="text-align: center">Cost per table: After August 27th - $495.00. (NO EXCEPTIONS)<br /> Cost per booth: After August 27th - $595.00. (NO EXCEPTIONS)</p> <p style="text-align: center">FIRST COME ~ FIRST SERVE ~ ONLY 60 SPACES AVAILABLE!</p> <p style="text-align: center">BOOTH &amp\; TABLE INCLUDES:<br /> 1) 2 Free dinner tickets for you and a guest. Additional dinner tickets available at $60.00 per person.<br /> 2) 8&rdquo\; X 10&rdquo\; sign with your firm&rsquo\;s name. We will use the firm name that you list on the reservation sheet. Reservations and firm name due by10/08/10.<br /> 3) Each &ldquo\;booth&rdquo\; will receive a 6-foot table\, tablecloth\, and two chairs. (Hanging items on wall is not permitted. Table top items must be able to fit on 6&rsquo\; X 18&rdquo\; table.)</p> <p style="text-align: center">RULES:<br /> 1) SET UP TIME: Between 3:00 p.m. and 5:30 p.m.<br /> 2) All exhibitors must be ready by 5:30 p.m.<br /> 3) ELECTRICITY: Available at $90.00 $65.00 per booth or table. If you need electricity\, you must notify the League in advance. A limited number of tables have access to electricity.<br /> 4) Hanging items on walls is not permitted. Table top items must be able to fit on 6 foot table.<br /> 5) To exhibit at the $395 &amp\; $495 rate\, we must receive full payment by August 27\, 2010. After August 27 the rate will be $495 &amp\; $595. <br /> 6) No Refunds for space after October 1\, 2010.<br /> 7) At the close of the exhibit you must remove your materials - between 10:00 p.m. and midnight.</p> <p style="text-align: center">TABLE LOCATION:<br /> 1) All determinations will be made by the committee to avoid conflict with a competitor.<br /> 2) Space is limited\, first come first serve.</p> <p style="text-align: center">DOOR PRIZES:<br /> Vendors are requested to supply a door prize. The prize will be raffled from your booth during the course of the evening.<br /> <br /> DINNER ONLY OPTION: NO TABLE OR BOOTH: $60 per person\; <br /> <br /> SPACE IS LIMITED TO THE FIRST 60 VENDORS! ACT NOW! <br /> &nbsp\;</p>
LOCATION:Berlin\, NJ 00000
UID:e.9292.257
SEQUENCE:3
DTSTAMP:20260421T081055Z
URL:https://members.blsj.com/events/details/associate-expo-october-20-2010-associate-booth-table-reservations-10-20-2010-257
END:VEVENT

END:VCALENDAR
