BEGIN:VCALENDAR
VERSION:2.0
PRODID:-//ChamberMaster//Event Calendar 2.0//EN
METHOD:PUBLISH
X-PUBLISHED-TTL:P3D
REFRESH-INTERVAL:P3D
CALSCALE:GREGORIAN
BEGIN:VEVENT
DTSTART:20101020T160000Z
DTEND:20101020T160000Z
X-MICROSOFT-CDO-ALLDAYEVENT:FALSE
SUMMARY:ASSOCIATE EXPO - BUILDER & REMODELER REGISTRATION - OCTOBER 20\, 2010
DESCRIPTION:The Associates Committee Presents:\n The 2010 Associate Trade Show & Expo\n "HANG LOOSE WITH YOUR KAHUNAS"\n Wednesday\, October 20\, 2010\n Lucien's Manor 81 West White Horse Pike\, Berlin\n   BUILDERS & REMODELERS: RECEIVE THREE FREE DINNER TICKETS\, \n BRING YOUR PURCHASING\, MARKETING & CONSTRUCTION EMPLOYEES\n \n \n PLEASE JOIN YOUR FELLOW BUILDERS IN SUPPORTING OUR ASSOCIATE MEMBERS\n Alliance Homes\n Brandt & Madison Development Co.\n Bruce Paparone Inc.\n Buttondown Construction & Renovation\n C & C Development Co. LLC\n CWR Construction\, Inc.\n Cipriani Remodeling Solutions\n Cornerstone Building Group\n D'Anastasio Corp\n Daniel Gregory.\n Dream Works Homes\n Gloucester County Habitat for Humanity\n Group Ten Builders\n Insight Enterprises LLC\n J. Dougherty & Son.\n J.S. Hovnanian & Sons\, Inc.\n Kojeski Construction\n Leewood Real EState Group/NJ\, LLC.\n M.S. Evans Builder\n Masciangelo Construction\n Paparone Housing Company\, Inc.\n Piersol Homes\n Russo Homes\n Ryan Homes\n Seaboard Development\, LLC\n Taitco/Tait Roofing Inc./Tait Supply\n Tim Schaeffer Development Corporation\n Tim Schaeffer Development\n Town Bank Builders\n \n SCHEDULE FOR THE EVENING  \n 6:00 pm to 9:00 pm - Dinner Buffet View exhibits and Meet Associate Members\n \n If you wish to bring additional guests from your organization the cost is $60.00 per person.
X-ALT-DESC;FMTTYPE=text/html:<p style="text-align: center">The Associates Committee Presents:<br /> <span style="color: #ff0000"><strong>The 2010 Associate Trade Show &amp\; Expo</strong></span><br /> &ldquo\;HANG LOOSE WITH YOUR KAHUNAS&rdquo\;<br /> Wednesday\, October 20\, 2010<br /> Lucien&rsquo\;s Manor 81 West White Horse Pike\, Berlin<br /> &nbsp\;</p> <p style="text-align: center"><strong><span style="color: #ff0000">BUILDERS &amp\; REMODELERS: RECEIVE <u><em>THREE&nbsp\;FREE</em></u> DINNER TICKETS\, <br /> BRING&nbsp\;YOUR PURCHASING\,&nbsp\;MARKETING &amp\; CONSTRUCTION&nbsp\;EMPLOYEES</span></strong><br /> <br /> <br /> PLEASE JOIN YOUR FELLOW BUILDERS IN SUPPORTING OUR ASSOCIATE MEMBERS<br /> <span style="color: #ff0000"><span style="color: #ff0000">Alliance Homes<br /> Brandt &amp\; Madison Development Co.<br /> Bruce Paparone Inc.<br /> Buttondown Construction &amp\; Renovation<br /> C &amp\; C Development Co. LLC<br /> CWR Construction\, Inc.<br /> Cipriani Remodeling Solutions<br /> Cornerstone Building Group<br /> D&rsquo\;Anastasio Corp<br /> Daniel Gregory.<br /> Dream Works Homes<br /> Gloucester County Habitat for Humanity<br /> Group Ten Builders<br /> Insight Enterprises LLC<br /> <span style="color: #ff0000">J. Dougherty &amp\; Son.<br /> </span>J.S. Hovnanian &amp\; Sons\, Inc.<br /> Kojeski Construction<br /> Leewood Real EState Group/NJ\, LLC.<br /> M.S. Evans Builder<br /> Masciangelo Construction<br /> Paparone Housing Company\, Inc.<br /> Piersol Homes<br /> Russo Homes<br /> Ryan Homes<br /> Seaboard Development\, LLC<br /> Taitco/Tait Roofing Inc./Tait Supply<br /> Tim Schaeffer Development Corporation<br /> Tim Schaeffer Development<br /> Town Bank Builders<br /> <br /> </span></span>SCHEDULE FOR THE EVENING&nbsp\;&nbsp\;<br /> 6:00 pm to 9:00 pm - Dinner Buffet View exhibits and Meet Associate Members<br /> <br /> If you wish to bring additional guests from your organization the cost is $60.00 per person. <br /> &nbsp\;</p>
LOCATION:BERLIN\, NJ 00000
UID:e.9292.192
SEQUENCE:3
DTSTAMP:20260421T081202Z
URL:https://members.blsj.com/events/details/associate-expo-builder-remodeler-registration-october-20-2010-10-20-2010-192
END:VEVENT

END:VCALENDAR
