BEGIN:VCALENDAR
VERSION:2.0
PRODID:-//ChamberMaster//Event Calendar 2.0//EN
METHOD:PUBLISH
X-PUBLISHED-TTL:P3D
REFRESH-INTERVAL:P3D
CALSCALE:GREGORIAN
BEGIN:VEVENT
DTSTART:20100504T160000Z
DTEND:20100504T160000Z
X-MICROSOFT-CDO-ALLDAYEVENT:FALSE
SUMMARY:Associate Committee Meeting & Workshop Presentation - The 70-Minute Hour
DESCRIPTION:Print 0 46   false false false          MicrosoftInternetExplorer4       st1\\:*{behavior:url(#ieooui) }      /* Style Definitions */ table.MsoNormalTable {mso-style-name:"Table Normal"\; mso-tstyle-rowband-size:0\; mso-tstyle-colband-size:0\; mso-style-noshow:yes\; mso-style-parent:""\; mso-padding-alt:0in 5.4pt 0in 5.4pt\; mso-para-margin:0in\; mso-para-margin-bottom:.0001pt\; mso-pagination:widow-orphan\; font-size:10.0pt\; font-family:"Times New Roman"\; mso-ansi-language:#0400\; mso-fareast-language:#0400\; mso-bidi-language:#0400\;}   Workshop: The 70-Minute Hour Wasted time steals up to 40% of your productivity...and time is money.  In this information-packed workshop\, Eric David of TEAM David Associates presents a program of tested and proven time management and personal productivity techniques that have enabled millions of professionals to dramatically increase their productivity!       Eliminate "Time Wasters"        Conquer procrastination       Control interruptions and handle drop-in visitors       Save time by creative scheduling       Avoid the "activity trap"       Use the telephone more effectively and avoid interruptions       Use travel\, commuting and waiting time more effectively       Eliminate paperwork pile-up       Hold effective meetings that produce results       Delegate more effectively and manage group time       Set realistic priorities each day       Organize work areas and eliminate clutter       Remove non-essentials from your business and personal life       Develop the self-confidence and strategies for saying "No"        Recognize the single most important factor to increased productivity   Speaker Bio: Eric David is the President of TEAM David Associates\, LLC\, the Delaware Valley licensee of Crestcom International.  Crestcom is a worldwide leader in the field of management and leadership development.  In that role\, Eric works with a mix of the most respected firms in the Delaware Valley\, including Drexel University\, The Wilmington Trust Company\, Quest Diagnostics and Big Brothers/Big Sisters of Southeastern PA.
X-ALT-DESC;FMTTYPE=text/html:<p> <meta content="text/html\; charset=utf-8" http-equiv="Content-Type" /> <meta content="Word.Document" name="ProgId" /> <meta content="Microsoft Word 11" name="Generator" /> <meta content="Microsoft Word 11" name="Originator" /> <link href="file:///C:\\DOCUME~1\\Marlene\\LOCALS~1\\Temp\\msohtml1\\01\\clip_filelist.xml" rel="File-List" /><o:smarttagtype name="PlaceType" namespaceuri="urn:schemas-microsoft-com:office:smarttags"></o:smarttagtype><o:smarttagtype name="PlaceName" namespaceuri="urn:schemas-microsoft-com:office:smarttags"></o:smarttagtype><o:smarttagtype downloadurl="http://www.5iamas-microsoft-com:office:smarttags" name="City" namespaceuri="urn:schemas-microsoft-com:office:smarttags"></o:smarttagtype><o:smarttagtype downloadurl="http://www.5iantlavalamp.com/" name="place" namespaceuri="urn:schemas-microsoft-com:office:smarttags"></o:smarttagtype><o:smarttagtype downloadurl="http://www.5iamas-microsoft-com:office:smarttags" name="State" namespaceuri="urn:schemas-microsoft-com:office:smarttags"></o:smarttagtype><!--[if gte mso 9]><xml> <w:WordDocument> <w:View>Print</w:View> <w:Zoom>0</w:Zoom> <w:HyphenationZone>46</w:HyphenationZone> <w:PunctuationKerning /> <w:ValidateAgainstSchemas /> <w:SaveIfXMLInvalid>false</w:SaveIfXMLInvalid> <w:IgnoreMixedContent>false</w:IgnoreMixedContent> <w:AlwaysShowPlaceholderText>false</w:AlwaysShowPlaceholderText> <w:Compatibility> <w:NoTabHangIndent /> <w:SubFontBySize /> <w:BreakWrappedTables /> <w:SnapToGridInCell /> <w:WrapTextWithPunct /> <w:UseAsianBreakRules /> <w:DontGrowAutofit /> </w:Compatibility> <w:BrowserLevel>MicrosoftInternetExplorer4</w:BrowserLevel> </w:WordDocument> </xml><![endif]--><!--[if gte mso 9]><xml> <w:LatentStyles DefLockedState="false" LatentStyleCount="156"> </w:LatentStyles> </xml><![endif]--><!--[if !mso]><object classid="clsid:38481807-CA0E-42D2-BF39-B33AF135CC4D" id=ieooui></object> <style> st1\\:*{behavior:url(#ieooui) } </style> <![endif]--><style type="text/css"> <!--  /* Font Definitions */  @font-face    {font-family:Wingdings\;    panose-1:5 0 0 0 0 0 0 0 0 0\;    mso-font-charset:2\;    mso-generic-font-family:auto\;    mso-font-pitch:variable\;    mso-font-signature:0 268435456 0 0 -2147483648 0\;} @font-face    {font-family:Calibri\;    mso-font-alt:"Times New Roman"\;    mso-font-charset:0\;    mso-generic-font-family:auto\;    mso-font-pitch:auto\;    mso-font-signature:0 0 0 0 0 0\;}  /* Style Definitions */  p.MsoNormal\, li.MsoNormal\, div.MsoNormal    {mso-style-parent:""\;    margin-top:0in\;    margin-right:0in\;    margin-bottom:10.0pt\;    margin-left:0in\;    line-height:115%\;    mso-pagination:widow-orphan\;    font-size:11.0pt\;    font-family:Calibri\;    mso-fareast-font-family:Calibri\;    mso-bidi-font-family:"Times New Roman"\;} p.ListParagraph\, li.ListParagraph\, div.ListParagraph    {mso-style-name:"List Paragraph"\;    margin-top:0in\;    margin-right:0in\;    margin-bottom:10.0pt\;    margin-left:.5in\;    mso-add-space:auto\;    line-height:115%\;    mso-pagination:widow-orphan\;    font-size:11.0pt\;    font-family:Calibri\;    mso-fareast-font-family:Calibri\;    mso-bidi-font-family:"Times New Roman"\;} p.ListParagraphCxSpFirst\, li.ListParagraphCxSpFirst\, div.ListParagraphCxSpFirst    {mso-style-name:"List ParagraphCxSpFirst"\;    mso-style-type:export-only\;    margin-top:0in\;    margin-right:0in\;    margin-bottom:0in\;    margin-left:.5in\;    margin-bottom:.0001pt\;    mso-add-space:auto\;    line-height:115%\;    mso-pagination:widow-orphan\;    font-size:11.0pt\;    font-family:Calibri\;    mso-fareast-font-family:Calibri\;    mso-bidi-font-family:"Times New Roman"\;} p.ListParagraphCxSpMiddle\, li.ListParagraphCxSpMiddle\, div.ListParagraphCxSpMiddle    {mso-style-name:"List ParagraphCxSpMiddle"\;    mso-style-type:export-only\;    margin-top:0in\;    margin-right:0in\;    margin-bottom:0in\;    margin-left:.5in\;    margin-bottom:.0001pt\;    mso-add-space:auto\;    line-height:115%\;    mso-pagination:widow-orphan\;    font-size:11.0pt\;    font-family:Calibri\;    mso-fareast-font-family:Calibri\;    mso-bidi-font-family:"Times New Roman"\;} p.ListParagraphCxSpLast\, li.ListParagraphCxSpLast\, div.ListParagraphCxSpLast    {mso-style-name:"List ParagraphCxSpLast"\;    mso-style-type:export-only\;    margin-top:0in\;    margin-right:0in\;    margin-bottom:10.0pt\;    margin-left:.5in\;    mso-add-space:auto\;    line-height:115%\;    mso-pagination:widow-orphan\;    font-size:11.0pt\;    font-family:Calibri\;    mso-fareast-font-family:Calibri\;    mso-bidi-font-family:"Times New Roman"\;}  /* Page Definitions */  @page    {mso-footnote-numbering-restart:each-page\;    mso-endnote-numbering-style:arabic\;} @page Section1    {size:8.5in 11.0in\;    margin:1.0in 1.0in 1.0in 1.0in\;    mso-header-margin:.5in\;    mso-footer-margin:.5in\;    mso-paper-source:0\;} div.Section1    {page:Section1\;}  /* List Definitions */  @list l0    {mso-list-id:1057313801\;    mso-list-type:hybrid\;    mso-list-template-ids:929324342 67698701 67698691 67698693 67698689 67698691 67698693 67698689 67698691 67698693\;} @list l0:level1    {mso-level-number-format:bullet\;    mso-level-text:???\;    mso-level-tab-stop:none\;    mso-level-number-position:left\;    text-indent:-.25in\;    font-family:Wingdings\;} ol    {margin-bottom:0in\;} ul    {margin-bottom:0in\;} --> </style><!--[if gte mso 10]> <style> /* Style Definitions */ table.MsoNormalTable {mso-style-name:"Table Normal"\; mso-tstyle-rowband-size:0\; mso-tstyle-colband-size:0\; mso-style-noshow:yes\; mso-style-parent:""\; mso-padding-alt:0in 5.4pt 0in 5.4pt\; mso-para-margin:0in\; mso-para-margin-bottom:.0001pt\; mso-pagination:widow-orphan\; font-size:10.0pt\; font-family:"Times New Roman"\; mso-ansi-language:#0400\; mso-fareast-language:#0400\; mso-bidi-language:#0400\;} </style> <![endif]--></p> <p style="line-height: normal\;" class="MsoNormal"><b><span style="font-size: 12pt\; font-family: Arial\; color: black\;">Workshop: The 70-Minute Hour<o:p></o:p></span></b></p> <p style="line-height: normal\;" class="MsoNormal"><b><span style="font-size: 10pt\; font-family: Arial\; color: black\;">Wasted time steals up to 40% of your productivity...and time is money. <o:p></o:p></span></b></p> <p style="line-height: normal\;" class="MsoNormal"><span style="font-size: 10pt\; font-family: Arial\; color: black\;">In this information-packed workshop\, Eric David of TEAM David Associates presents a program of tested and proven time management and personal productivity techniques that have enabled millions of professionals to<b> dramatically increase their productivity!</b></span><span style="font-size: 12pt\; font-family: Arial\; color: black\;"><o:p></o:p></span></p> <p style="margin-bottom: 0.0001pt\; text-indent: -0.25in\; line-height: normal\;" class="ListParagraphCxSpFirst"><!--[if !supportLists]--><span style="font-size: 12pt\; font-family: Wingdings\; color: black\;"><span style="">&uuml\;<span style="font: 7pt &quot\;Times New Roman&quot\;\;">&nbsp\;&nbsp\;&nbsp\;&nbsp\; </span></span></span><!--[endif]--><span style="font-size: 10pt\; font-family: Arial\; color: black\;">Eliminate &quot\;Time Wasters&quot\; </span><span style="font-size: 12pt\; font-family: Arial\; color: black\;"><o:p></o:p></span></p> <p style="margin-bottom: 0.0001pt\; text-indent: -0.25in\; line-height: normal\;" class="ListParagraphCxSpMiddle"><!--[if !supportLists]--><span style="font-size: 12pt\; font-family: Wingdings\; color: black\;"><span style="">&uuml\;<span style="font: 7pt &quot\;Times New Roman&quot\;\;">&nbsp\;&nbsp\;&nbsp\;&nbsp\; </span></span></span><!--[endif]--><span style="font-size: 10pt\; font-family: Arial\; color: black\;">Conquer procrastination</span><span style="font-size: 12pt\; font-family: Arial\; color: black\;"><o:p></o:p></span></p> <p style="margin-bottom: 0.0001pt\; text-indent: -0.25in\; line-height: normal\;" class="ListParagraphCxSpMiddle"><!--[if !supportLists]--><span style="font-size: 12pt\; font-family: Wingdings\; color: black\;"><span style="">&uuml\;<span style="font: 7pt &quot\;Times New Roman&quot\;\;">&nbsp\;&nbsp\;&nbsp\;&nbsp\; </span></span></span><!--[endif]--><span style="font-size: 10pt\; font-family: Arial\; color: black\;">Control interruptions and handle drop-in visitors</span><span style="font-size: 12pt\; font-family: Arial\; color: black\;"><o:p></o:p></span></p> <p style="margin-bottom: 0.0001pt\; text-indent: -0.25in\; line-height: normal\;" class="ListParagraphCxSpMiddle"><!--[if !supportLists]--><span style="font-size: 12pt\; font-family: Wingdings\; color: black\;"><span style="">&uuml\;<span style="font: 7pt &quot\;Times New Roman&quot\;\;">&nbsp\;&nbsp\;&nbsp\;&nbsp\; </span></span></span><!--[endif]--><span style="font-size: 10pt\; font-family: Arial\; color: black\;">Save time by creative scheduling</span><span style="font-size: 12pt\; font-family: Arial\; color: black\;"><o:p></o:p></span></p> <p style="margin-bottom: 0.0001pt\; text-indent: -0.25in\; line-height: normal\;" class="ListParagraphCxSpMiddle"><!--[if !supportLists]--><span style="font-size: 12pt\; font-family: Wingdings\; color: black\;"><span style="">&uuml\;<span style="font: 7pt &quot\;Times New Roman&quot\;\;">&nbsp\;&nbsp\;&nbsp\;&nbsp\; </span></span></span><!--[endif]--><span style="font-size: 10pt\; font-family: Arial\; color: black\;">Avoid the &ldquo\;activity trap&rdquo\;</span><span style="font-size: 12pt\; font-family: Arial\; color: black\;"><o:p></o:p></span></p> <p style="margin-bottom: 0.0001pt\; text-indent: -0.25in\; line-height: normal\;" class="ListParagraphCxSpMiddle"><!--[if !supportLists]--><span style="font-size: 12pt\; font-family: Wingdings\; color: black\;"><span style="">&uuml\;<span style="font: 7pt &quot\;Times New Roman&quot\;\;">&nbsp\;&nbsp\;&nbsp\;&nbsp\; </span></span></span><!--[endif]--><span style="font-size: 10pt\; font-family: Arial\; color: black\;">Use the telephone more effectively and avoid interruptions</span><span style="font-size: 12pt\; font-family: Arial\; color: black\;"><o:p></o:p></span></p> <p style="margin-bottom: 0.0001pt\; text-indent: -0.25in\; line-height: normal\;" class="ListParagraphCxSpMiddle"><!--[if !supportLists]--><span style="font-size: 12pt\; font-family: Wingdings\; color: black\;"><span style="">&uuml\;<span style="font: 7pt &quot\;Times New Roman&quot\;\;">&nbsp\;&nbsp\;&nbsp\;&nbsp\; </span></span></span><!--[endif]--><span style="font-size: 10pt\; font-family: Arial\; color: black\;">Use travel\, commuting and waiting time more effectively</span><span style="font-size: 12pt\; font-family: Arial\; color: black\;"><o:p></o:p></span></p> <p style="margin-bottom: 0.0001pt\; text-indent: -0.25in\; line-height: normal\;" class="ListParagraphCxSpMiddle"><!--[if !supportLists]--><span style="font-size: 12pt\; font-family: Wingdings\; color: black\;"><span style="">&uuml\;<span style="font: 7pt &quot\;Times New Roman&quot\;\;">&nbsp\;&nbsp\;&nbsp\;&nbsp\; </span></span></span><!--[endif]--><span style="font-size: 10pt\; font-family: Arial\; color: black\;">Eliminate paperwork pile-up</span><span style="font-size: 12pt\; font-family: Arial\; color: black\;"><o:p></o:p></span></p> <p style="margin-bottom: 0.0001pt\; text-indent: -0.25in\; line-height: normal\;" class="ListParagraphCxSpMiddle"><!--[if !supportLists]--><span style="font-size: 12pt\; font-family: Wingdings\; color: black\;"><span style="">&uuml\;<span style="font: 7pt &quot\;Times New Roman&quot\;\;">&nbsp\;&nbsp\;&nbsp\;&nbsp\; </span></span></span><!--[endif]--><span style="font-size: 10pt\; font-family: Arial\; color: black\;">Hold effective meetings that produce results</span><span style="font-size: 12pt\; font-family: Arial\; color: black\;"><o:p></o:p></span></p> <p style="margin-bottom: 0.0001pt\; text-indent: -0.25in\; line-height: normal\;" class="ListParagraphCxSpMiddle"><!--[if !supportLists]--><span style="font-size: 12pt\; font-family: Wingdings\; color: black\;"><span style="">&uuml\;<span style="font: 7pt &quot\;Times New Roman&quot\;\;">&nbsp\;&nbsp\;&nbsp\;&nbsp\; </span></span></span><!--[endif]--><span style="font-size: 10pt\; font-family: Arial\; color: black\;">Delegate more effectively and manage group time</span><span style="font-size: 12pt\; font-family: Arial\; color: black\;"><o:p></o:p></span></p> <p style="margin-bottom: 0.0001pt\; text-indent: -0.25in\; line-height: normal\;" class="ListParagraphCxSpMiddle"><!--[if !supportLists]--><span style="font-size: 12pt\; font-family: Wingdings\; color: black\;"><span style="">&uuml\;<span style="font: 7pt &quot\;Times New Roman&quot\;\;">&nbsp\;&nbsp\;&nbsp\;&nbsp\; </span></span></span><!--[endif]--><span style="font-size: 10pt\; font-family: Arial\; color: black\;">Set realistic priorities each day</span><span style="font-size: 12pt\; font-family: Arial\; color: black\;"><o:p></o:p></span></p> <p style="margin-bottom: 0.0001pt\; text-indent: -0.25in\; line-height: normal\;" class="ListParagraphCxSpMiddle"><!--[if !supportLists]--><span style="font-size: 12pt\; font-family: Wingdings\; color: black\;"><span style="">&uuml\;<span style="font: 7pt &quot\;Times New Roman&quot\;\;">&nbsp\;&nbsp\;&nbsp\;&nbsp\; </span></span></span><!--[endif]--><span style="font-size: 10pt\; font-family: Arial\; color: black\;">Organize work areas and eliminate clutter</span><span style="font-size: 12pt\; font-family: Arial\; color: black\;"><o:p></o:p></span></p> <p style="margin-bottom: 0.0001pt\; text-indent: -0.25in\; line-height: normal\;" class="ListParagraphCxSpMiddle"><!--[if !supportLists]--><span style="font-size: 12pt\; font-family: Wingdings\; color: black\;"><span style="">&uuml\;<span style="font: 7pt &quot\;Times New Roman&quot\;\;">&nbsp\;&nbsp\;&nbsp\;&nbsp\; </span></span></span><!--[endif]--><span style="font-size: 10pt\; font-family: Arial\; color: black\;">Remove non-essentials from your business and personal life</span><span style="font-size: 12pt\; font-family: Arial\; color: black\;"><o:p></o:p></span></p> <p style="margin-bottom: 0.0001pt\; text-indent: -0.25in\; line-height: normal\;" class="ListParagraphCxSpMiddle"><!--[if !supportLists]--><span style="font-size: 12pt\; font-family: Wingdings\; color: black\;"><span style="">&uuml\;<span style="font: 7pt &quot\;Times New Roman&quot\;\;">&nbsp\;&nbsp\;&nbsp\;&nbsp\; </span></span></span><!--[endif]--><span style="font-size: 10pt\; font-family: Arial\; color: black\;">Develop the self-confidence and strategies for saying &quot\;No&quot\;</span><span style="font-size: 12pt\; font-family: Arial\; color: black\;"><o:p></o:p></span></p> <p style="text-indent: -0.25in\;" class="ListParagraphCxSpLast"><!--[if !supportLists]--><span style="font-size: 10pt\; line-height: 115%\; font-family: Wingdings\; color: black\;"><span style="">&uuml\;<span style="font: 7pt &quot\;Times New Roman&quot\;\;">&nbsp\;&nbsp\;&nbsp\;&nbsp\;&nbsp\; </span></span></span><!--[endif]--><span style="font-size: 10pt\; line-height: 115%\; font-family: Arial\; color: black\;">Recognize the single most important factor to increased productivity<o:p></o:p></span></p> <p class="MsoNormal"><span style="font-size: 10pt\; line-height: 115%\; font-family: Arial\; color: black\;"><o:p>&nbsp\;</o:p></span></p> <p class="MsoNormal"><b style=""><u><span style="font-size: 10pt\; line-height: 115%\; font-family: Arial\;">Speaker Bio:<o:p></o:p></span></u></b></p> <p class="MsoNormal"><span style="font-size: 10pt\; line-height: 115%\; font-family: Arial\;">Eric David is the President of TEAM David Associates\, LLC\, the <st1:place w:st="on"><st1:placename w:st="on">Delaware</st1:placename> <st1:placetype w:st="on">Valley</st1:placetype></st1:place> licensee of Crestcom International.<span style="">&nbsp\; </span>Crestcom is a worldwide leader in the field of management and leadership development</span><span style="font-size: 10pt\; line-height: 115%\; font-family: Arial\; color: black\;">.<span style="">&nbsp\; </span>In that role\, </span><span style="font-size: 10pt\; line-height: 115%\; font-family: Arial\;">Eric works with a mix of the most respected firms in the <st1:placename w:st="on">Delaware</st1:placename> <st1:placetype w:st="on">Valley</st1:placetype>\, including <st1:place w:st="on"><st1:placename w:st="on">Drexel</st1:placename> <st1:placetype w:st="on">University</st1:placetype></st1:place>\, The Wilmington Trust Company\, Quest Diagnostics and Big Brothers/Big Sisters of Southeastern PA.<span style="">&nbsp\; </span><o:p></o:p></span></p> <span style="font-size: 10pt\; line-height: 115%\; font-family: Arial\;"><span style="" /></span><span style="font-family: Arial\;"><o:p></o:p></span>
LOCATION:114 Haddontowne Court Cherry Hill\, NJ 08034
UID:e.9292.581
SEQUENCE:3
DTSTAMP:20260421T150115Z
URL:https://members.blsj.com/events/details/associate-committee-meeting-workshop-presentation-the-70-minute-hour-05-04-2010-581
END:VEVENT

END:VCALENDAR
