BEGIN:VCALENDAR
VERSION:2.0
PRODID:-//ChamberMaster//Event Calendar 2.0//EN
METHOD:PUBLISH
X-PUBLISHED-TTL:P3D
REFRESH-INTERVAL:P3D
CALSCALE:GREGORIAN
BEGIN:VEVENT
DTSTART:20100601T160000Z
DTEND:20100601T160000Z
X-MICROSOFT-CDO-ALLDAYEVENT:FALSE
SUMMARY:Associate Committee Meeting - Special Guest Speaker: Michael Karmatz\, Past President NJBA
DESCRIPTION:TO: Associates Committee\n FROM: Nicole Hantman ~ Chair / Nicolehantman@aol.com\n SUBJECT: ASSOCIATES COMMITTEE MEETING\n PLACE: League Office\n DATE: June 1\, 2010 TIME: 10:00 AM\n MEETING AGENDA: \n 1. Welcome remarks: N. Hantman\n 2. Conflict of Interest Statement\n 3. Mission Statement\n 4. Introduction of all in attendance\n 5. Speaker: Michael Karmatz-Past President BLSJ and Immediate Past President NJBA\n Michael will give us an update on current events at the state level for our industry.\n 6. Committee Updates and Review: \n a. Summer golf outing: June 21st   Laurel Creek Country Club\n b. Fall golf outing: September 20th   Little Mill Country Club\n c. Associate Expo: October 20th   Lucien's Manor\n d. Scotch and Cigar Night: November 23rd   LaVeranda\, Phila\, PA\n e. BPAC Ad Journal: Peer-to-Peer Outreach\n 7. Associate of the Second Quarter Winner: Jim Craft\, Foundation Title\n 8. Member Services   Associates Committee Presents BLSJ Bargain Bucks Program\n Sign up now for discounted rates to some of BLSJ's upcoming events!\n 9. NJBA Associates update- N. Hantman\n 10. NAHB update\n 11. Upcoming Speakers \n 12. SJBPAC Report\n 13. Lead Swap\n 14. Old Business/New Business Next Meeting: August 3rd\, 2010
X-ALT-DESC;FMTTYPE=text/html:<p>TO: Associates Committee<br /> FROM: Nicole Hantman ~ Chair / Nicolehantman@aol.com<br /> SUBJECT: ASSOCIATES COMMITTEE MEETING<br /> PLACE: League Office<br /> DATE: June 1\, 2010 TIME: 10:00 AM<br /> MEETING AGENDA: <br /> 1. Welcome remarks: N. Hantman<br /> 2. Conflict of Interest Statement<br /> 3. Mission Statement<br /> 4. Introduction of all in attendance<br /> <span style="color: #ff0000"><strong>5. Speaker: Michael Karmatz-Past President BLSJ and Immediate Past President NJBA<br /> Michael will give us an update on current events at the state level for our industry.<br /> </strong></span>6. Committee Updates and Review: <br /> a. Summer golf outing: June 21st &ndash\; Laurel Creek Country Club<br /> b. Fall golf outing: September 20th &ndash\; Little Mill Country Club<br /> c. Associate Expo: October 20th &ndash\; Lucien&rsquo\;s Manor<br /> d. Scotch and Cigar Night: November 23rd &ndash\; LaVeranda\, Phila\, PA<br /> e. BPAC Ad Journal: Peer-to-Peer Outreach<br /> 7. Associate of the Second Quarter Winner: Jim Craft\, Foundation Title<br /> 8. Member Services &ndash\; Associates Committee Presents BLSJ Bargain Bucks Program<br /> Sign up now for discounted rates to some of BLSJ&rsquo\;s upcoming events!<br /> 9. NJBA Associates update- N. Hantman<br /> 10. NAHB update<br /> 11. Upcoming Speakers <br /> 12. SJBPAC Report<br /> 13. Lead Swap<br /> 14. Old Business/New Business</p> <p>Next Meeting: August 3rd\, 2010<br /> &nbsp\;</p>
LOCATION:114 Haddontowne Court Cherry Hill\, NJ 08034
UID:e.9292.583
SEQUENCE:3
DTSTAMP:20260421T132900Z
URL:https://members.blsj.com/events/details/associate-committee-meeting-special-guest-speaker-michael-karmatz-past-president-njba-06-01-2010-583
END:VEVENT

END:VCALENDAR
