BEGIN:VCALENDAR
VERSION:2.0
PRODID:-//ChamberMaster//Event Calendar 2.0//EN
METHOD:PUBLISH
X-PUBLISHED-TTL:P3D
REFRESH-INTERVAL:P3D
CALSCALE:GREGORIAN
BEGIN:VEVENT
DTSTART:20050322T170000Z
DTEND:20050322T170000Z
X-MICROSOFT-CDO-ALLDAYEVENT:FALSE
SUMMARY:Associate Committee Meeting - Postponed from March 22
DESCRIPTION:Due to the expected snow storm\, the Associates Committee Meeting scheduled for March 1 was postponed until March 22.
X-ALT-DESC;FMTTYPE=text/html:Due to the expected snow storm\, the Associates Committee Meeting scheduled for March 1 was postponed until March 22.
LOCATION:Builders League 114 Haddontowne Court Cherry Hill\, NJ 08034
UID:e.9292.345
SEQUENCE:3
DTSTAMP:20260420T221951Z
URL:https://members.blsj.com/events/details/associate-committee-meeting-postponed-from-march-22-03-22-2005-345
END:VEVENT

END:VCALENDAR
