BEGIN:VCALENDAR
VERSION:2.0
PRODID:-//ChamberMaster//Event Calendar 2.0//EN
METHOD:PUBLISH
X-PUBLISHED-TTL:P3D
REFRESH-INTERVAL:P3D
CALSCALE:GREGORIAN
BEGIN:VEVENT
DTSTART:20091110T170000Z
DTEND:20091110T170000Z
X-MICROSOFT-CDO-ALLDAYEVENT:FALSE
SUMMARY:Associate Committee Meeting-NOTE: MEETING CHANGED TO TUESDAY\, NOVEMBER 10th
DESCRIPTION:SUBJECT: ASSOCIATES COMMITTEE MEETING \n PLACE: League Office\n  CHANGE OF DATE: November 10\, 2009 \n Time: 10 AM \n MEETING AGENDA 1. Welcome remarks: N. Hantman 2. Conflict of Interest Statement 3. Mission statement 4. Introduction of all in attendance 5. Guest Speaker : Michael Kurpiel\, National Associate Chairman\, NAHB: Presents a BPAC Power Point Presentation\n \n 6. NAHB Update: M. Kurpiel 7. 2009 Sub Committee Chairs and events : REMINDER ALL MINUTES FROM SUB-COMMITTEE MEETINGS MUST BE SUBMITTEDTO Nicole and Marlene A. BPAC Ad Journal: \n Chair: P. DiGiambatista Co-Chair: E. McMahon\n \n B. Associate Expo: Wrap-Up\n Chair: A. Goldman Co-Chair: J. Michaelis: \n \n C. Cigar Night: Chair: J. Sauder : La Veranda \, November 24\,2009 7. Build PAC /SJBPAC\n \n 8. Member Services  J. Sauder\n \n 9. NJBA Associates update-N. Hantman\n \n 10. Lead Swap\n \n 11. Old Business/New Business\n \n Next Meeting: December 1\, 2009  10AM BLSJ Office
X-ALT-DESC;FMTTYPE=text/html:<p><span style="font-size: small">SUBJECT: ASSOCIATES COMMITTEE MEETING <br /> PLACE: League Office<br /> <strong><span style="color: #ff0000">&nbsp\;CHANGE OF DATE: November 10\, 2009 <br /> </span></strong>Time: 10 AM <br /> MEETING AGENDA</span></p> <p>1. Welcome remarks: N. Hantman</p> <p>2. Conflict of Interest Statement</p> <p>3. Mission statement</p> <p>4. Introduction of all in attendance</p> <p>5. Guest Speaker : Michael Kurpiel\, National Associate Chairman\, NAHB: Presents a BPAC Power Point Presentation<br /> <br /> 6. NAHB Update: M. Kurpiel</p> <p>7. 2009 Sub Committee Chairs and events : REMINDER ALL MINUTES FROM SUB-COMMITTEE MEETINGS MUST BE SUBMITTEDTO Nicole and Marlene</p> <p>A. BPAC Ad Journal: <br /> Chair: P. DiGiambatista Co-Chair: E. McMahon<br /> <br /> B. Associate Expo: Wrap-Up<br /> Chair: A. Goldman Co-Chair: J. Michaelis: <br /> <br /> C. Cigar Night: Chair: J. Sauder : La Veranda \, November 24\,2009</p> <p>7. Build PAC /SJBPAC<br /> <br /> 8. Member Services &ndash\;J. Sauder<br /> <br /> 9. NJBA Associates update-N. Hantman<br /> <br /> 10. Lead Swap<br /> <br /> 11. Old Business/New Business<br /> <br /> Next Meeting:&nbsp\;December 1\, 2009&nbsp\; 10AM BLSJ Office</p>
LOCATION:114 Haddontowne Court Cherry Hill\, NJ 08043
UID:e.9292.696
SEQUENCE:3
DTSTAMP:20260422T011502Z
URL:https://members.blsj.com/events/details/associate-committee-meeting-note-meeting-changed-to-tuesday-november-10th-11-10-2009-696
END:VEVENT

END:VCALENDAR
